BEGIN:VCALENDAR
VERSION:2.0
PRODID:-//Sound &amp; Silence - ECPv6.15.5//NONSGML v1.0//EN
CALSCALE:GREGORIAN
METHOD:PUBLISH
X-ORIGINAL-URL:https://www.soundandsilence.be
X-WR-CALDESC:Evenementen voor Sound &amp; Silence
REFRESH-INTERVAL;VALUE=DURATION:PT1H
X-Robots-Tag:noindex
X-PUBLISHED-TTL:PT1H
BEGIN:VTIMEZONE
TZID:Europe/Amsterdam
BEGIN:DAYLIGHT
TZOFFSETFROM:+0100
TZOFFSETTO:+0200
TZNAME:CEST
DTSTART:20230326T010000
END:DAYLIGHT
BEGIN:STANDARD
TZOFFSETFROM:+0200
TZOFFSETTO:+0100
TZNAME:CET
DTSTART:20231029T010000
END:STANDARD
END:VTIMEZONE
BEGIN:VEVENT
DTSTART;TZID=Europe/Amsterdam:20230214T193000
DTEND;TZID=Europe/Amsterdam:20230214T220000
DTSTAMP:20260421T192831
CREATED:20221119T094342Z
LAST-MODIFIED:20230201T201531Z
UID:7414-1676403000-1676412000@www.soundandsilence.be
SUMMARY:Soundhealing pianoconcert World Soundhealing Day
DESCRIPTION:Liefde vind je in jezelf\, en er is weinig dat je daar zo vlot kan brengen als pure klank. Daarom is deze dag ook World Soundhealing Day. Duik diep en breng jezelf helemaal in een trilling van liefde tijdens een intiem Soundhealing concert.\nPiano Soundhealing concert – Rust\, ontroering\, tijd voor jezelf \nDeze Soundhealing zal gecombineerd worden met enkele piano improvisaties. De piano is een ontroerend en diep rakend instrument. Pianoklanken zullen afgewisseld worden met Soundhealing instrumenten en zang om op een veelzijdige en diepgaande manier te reinigen en in harmonie\, vervulling te komen. \nWat gebeurd er dan?\nAl liggend\, met de ogen gesloten gaat je aandacht naar binnen. Hierdoor kan je dieper voelen. Als eerste al hetgeen dat onder de oppervlakte ligt en nog aandacht vraagt. Je lichaam kan reageren op deze voelbare klanken. Gaandeweg vinden de trillingen hun weg om meer vrede en innerlijke harmonie te bekomen. \nHet diepe effect van kwalitatieve klank brengt je in verbinding \n \nWil je graag deel uitmaken van dit unieke Soundhealing concert?\nJe kan je inschrijven door te mailen naar geert@soundandsilence.be \nWat wordt er voorzien? Een klankreis van bijna 2u\, een comfortabel matje\, (een meditatie kussen indien gewenst) en thee.\nJe kan zelf nog wat meenemen om het aangenaam te maken zoals een kussen\, dekentje…\nWe starten tegen 19u30\, aankomen kan vanaf 19u15. \nBijdrage voor de avond is 35 euro. Ter plaatse te betalen.\nPlaatsen zijn beperkt. Let op\, bij inschrijving via mail rekenen we op jouw aanwezigheid\, respecteer deze plaats en laat ten laatste 24u op voorhand weten moest er een probleem zijn. \n 
URL:https://www.soundandsilence.be/event/soundhealing-pianoconcert/
LOCATION:Sound & Silence Geetbets\, Hulsbeekstraat 120\, Geetbets\, Vlaams brabant\, 3450\, Belgium
ATTACH;FMTTYPE=image/jpeg:https://www.soundandsilence.be/wp-content/uploads/2022/11/20221109_140904.jpg
ORGANIZER;CN="Geert Kumpen":MAILTO:geert@soundandsilence.be
END:VEVENT
END:VCALENDAR