BEGIN:VCALENDAR
VERSION:2.0
PRODID:-//Sound &amp; Silence - ECPv6.15.5//NONSGML v1.0//EN
CALSCALE:GREGORIAN
METHOD:PUBLISH
X-WR-CALNAME:Sound &amp; Silence
X-ORIGINAL-URL:https://www.soundandsilence.be
X-WR-CALDESC:Evenementen voor Sound &amp; Silence
REFRESH-INTERVAL;VALUE=DURATION:PT1H
X-Robots-Tag:noindex
X-PUBLISHED-TTL:PT1H
BEGIN:VTIMEZONE
TZID:Europe/Amsterdam
BEGIN:DAYLIGHT
TZOFFSETFROM:+0100
TZOFFSETTO:+0200
TZNAME:CEST
DTSTART:20190331T010000
END:DAYLIGHT
BEGIN:STANDARD
TZOFFSETFROM:+0200
TZOFFSETTO:+0100
TZNAME:CET
DTSTART:20191027T010000
END:STANDARD
END:VTIMEZONE
BEGIN:VEVENT
DTSTART;TZID=Europe/Amsterdam:20190615T200000
DTEND;TZID=Europe/Amsterdam:20190615T220000
DTSTAMP:20260420T055151
CREATED:20190426T063956Z
LAST-MODIFIED:20190504T133439Z
UID:6616-1560628800-1560636000@www.soundandsilence.be
SUMMARY:Eniyua - Cd release concert | 15 juni 2019 - Hasselt
DESCRIPTION:De cd voorstelling van Eniyua is een reis doorheen oude volken\, helende klanken en boventonen. Met diverse instrumenten zoals de gong\, double native flute\, handpan\, didgeridoo\, reverie harp\, crystal harp\, monochord\, koshi’s\, splitdrum\, klankschalen … \nHet concert gaat door in de Clarenhof kapel in Hasselt. Dit is de unieke locatie om de kracht van boventonen te ervaren. \nGedragen door improvisatie vanuit gevoel en verbinding duikt boventoonzanger en multi-instrumentalist Geert Kumpen helemaal in de klank. Hij neemt je mee op een reis in werelden van pure klanken. Door je open te stellen en heel aandachtig te luisteren kom je terecht in een vredevolle helende ruimte. \n  \nElke keer opnieuw weet Geert me in mijn geest\, hart en ziel te raken en te verrassen met zijn wondermooie klanken. Hij bezit het talent en de gave om je mee te nemen in een fijne en helende reis in jezelf\, buiten tijd en ruimte. – Angelina \n  \nZijn kennissen vergelijken zijn muziek met Kailash Kokopelli\, Tom Kenyon\, Netanel Goldberg\, Nestor Kornblum\, Jonothan Goldman. \nMet mijn nieuwe cd Eniyua kan je een heel nieuwe stijl van muziek ontdekken. \nNa 9 jaar soundhealing concerten te geven heb ik in dit album de mooiste instrumenten en improvisaties naar voren laten komen. Je vind er heel pure klanken en improvisaties\, elk ontstaan vanuit innerlijke afstemming. Het unieke is dat er geen 2 maal\, exact hetzelfde lied wordt gebracht. Elke keer wordt er ruimte gelaten om de muziek te laten onstaan. Daarbij gaat er veel aandacht uit naar de details van de klankkleur en de energie of sfeer van het lied. \nWat is het genre van “Eniyua”?\nSacred sounds\, pure sounds\, overtones\, world\, celtic\, new age\, soundhealing. \nWelke instrumenten komen er in voor?\nGong\, double native flute\, handpan (soulshine)\, didgeridoo\, crystal bowl\, voice\, deep voice\, overtone singing\, reverie harp\, handpan (sunpan)\, crystal harp\, monochord\, koshi’s\, handpan (caïsa)\, splitdrum\, djembé\, ocean drum\, singing bowls\, shrutibox\, … \nMeer informatie over de cd alsook voorverkoop kaarten van dit concert vind je op De crowdfunding campagne van de cd Eniyua \nof je kan je inschrijven via onderstaand formulier:\nTickets: voorverkoop 20 euro\, kassa 25 euro\nJe inschrijving is definitief na storting met vermelding van naam en datum concert\nIBAN: BE68 3770 2497 7234\nBIC: BBRUBEBB \nFout: Contact formulier niet gevonden. \nBeluister hier alvast de teasers:
URL:https://www.soundandsilence.be/event/event-for-sound-healing-28th-april-2019/
LOCATION:Clarenhofkapel Hasselt\, Guffenslaan 43\, Hasselt\, 3500\, België
CATEGORIES:Sound Healing
ATTACH;FMTTYPE=image/jpeg:https://www.soundandsilence.be/wp-content/uploads/2019/04/CD-hoes-ulule.jpg
ORGANIZER;CN="Geert Kumpen":MAILTO:geert@soundandsilence.be
END:VEVENT
END:VCALENDAR