BEGIN:VCALENDAR
VERSION:2.0
PRODID:-//Sound &amp; Silence - ECPv6.15.5//NONSGML v1.0//EN
CALSCALE:GREGORIAN
METHOD:PUBLISH
X-ORIGINAL-URL:https://www.soundandsilence.be
X-WR-CALDESC:Evenementen voor Sound &amp; Silence
REFRESH-INTERVAL;VALUE=DURATION:PT1H
X-Robots-Tag:noindex
X-PUBLISHED-TTL:PT1H
BEGIN:VTIMEZONE
TZID:Europe/Amsterdam
BEGIN:DAYLIGHT
TZOFFSETFROM:+0100
TZOFFSETTO:+0200
TZNAME:CEST
DTSTART:20240331T010000
END:DAYLIGHT
BEGIN:STANDARD
TZOFFSETFROM:+0200
TZOFFSETTO:+0100
TZNAME:CET
DTSTART:20241027T010000
END:STANDARD
END:VTIMEZONE
BEGIN:VEVENT
DTSTART;TZID=Europe/Amsterdam:20241017T110000
DTEND;TZID=Europe/Amsterdam:20241017T203000
DTSTAMP:20260420T124209
CREATED:20241017T201704Z
LAST-MODIFIED:20241017T201740Z
UID:8107-1729162800-1729197000@www.soundandsilence.be
SUMMARY:Honour the Sacred - Winter Solstice
DESCRIPTION:Waar intentie\, energie en trilling samenkomen ontstaat magie.\n\nHonour The Sacred Winter Solstice gaat door op de unieke locatie van het Clarenhof Kapel te Hasselt. Op 21/12/2024 organiseren we een viering voor de donkerste dagen en de terugkeer van het licht.\n\nWe treden nu helemaal de winter in\, een periode van verstilling en vertoeven in de duisternis. Een moment om eens te kijken naar wat er vanbinnen leeft\, welke wijsheid in onszelf mag wakker worden. \n\n  \nDie wijsheid zit in ieder van ons\, maar vraagt soms wat aandacht\, eerlijkheid en moed.\n\n  \nIntenties\, richting vinden\, beweging\, aankomen in het lichaam\, energie laten stromen\, emoties reguleren\, healing movement\, op een toegankelijke manier je stem de ruimte geven\,… We nemen het allemaal mee in deze diepgaande dag.\n\nWat wordt er voorzien?\nWater\, thee\, kleine versnapering en een warme tas soep voor ’s middags. Je kan nog iets extra meenemen voor bij de soep.  Neem zelf nog een matje\, meditatiekussen\, deken mee. Kom in losse kledij waar je gemakkelijk in kan bewegen. In de avond houden we een potluck\, Bij voorkeur vegetarisch. \nWe starten tegen 11u\, aankomen kan vanaf 10u45. Einde om 20u.\nDeze dag wordt begeleid door Geert Kumpen en Kristien Gounakis. \nWil je graag deel uitmaken van deze unieke Honour the Sacred Winter Solstice?\nJe kan je inschrijven door te mailen naar geert@soundandsilence.be \nBijdrage voor de dag is 125 euro.\nLet op\, bij inschrijving via mail rekenen we op jouw aanwezigheid\, respecteer deze plaats en laat 24u op voorhand weten moest er een probleem zijn.
URL:https://www.soundandsilence.be/event/winter-solstice/
LOCATION:Clarenhofkapel Hasselt\, Guffenslaan 43\, Hasselt\, 3500\, België
CATEGORIES:Honour the Sacred
ATTACH;FMTTYPE=image/jpeg:https://www.soundandsilence.be/wp-content/uploads/2024/10/WhatsApp-Image-2024-10-17-at-21.53.00.jpeg
ORGANIZER;CN="Geert Kumpen":MAILTO:geert@soundandsilence.be
END:VEVENT
BEGIN:VEVENT
DTSTART;TZID=Europe/Amsterdam:20241031T193000
DTEND;TZID=Europe/Amsterdam:20241031T220000
DTSTAMP:20260420T124209
CREATED:20240906T182837Z
LAST-MODIFIED:20241018T041341Z
UID:7926-1730403000-1730412000@www.soundandsilence.be
SUMMARY:Honour The Sacred - Sound Ceremony
DESCRIPTION:Waar intentie\, energie en trilling samenkomen ontstaat magie.\n\n  \nEen Honour The Sacred – Sound Ceremonie is de combinatie van een soundhealing concert door Geert Kumpen met begeleide meditatie\, het plaatsen van intentie en energetische werk/aanraking door Kristien Gounakis.\n  \nWat is Energetic Touch.\nOns lichaam is een bron van energie\, waar je wel degelijk iets mee kan doen. Dit is iets wat in de bloedlijn van Kristien als heel normaal werd beschouwd en van generatie op generatie is doorgegeven. Ons energetisch lichaam is iets dat heel bewust of onbewust voelbaar is en waar we met aandacht alsook met klank en aanraking goed zorg voor kunnen dragen.\n  \nJe kan die energie zien als een stroming\, een riviertje door het lichaam. Door bepaalde gebeurtenissen zijn er hobbels of obstakels in die stroming. Vergelijk het met dikke stenen in een rivier waardoor het water moeilijker zijn weg vind en op sommige plaatsen gaat stilstaan. Bewuste aanraking van niet enkel het fysieke\, maar ook het energetische veld\, kan de verbinding tussen verschillende punten herstellen\, waardoor een goede doorstroming gestimuleerd wordt.\n\n\n  \nSoundhealing is een methode om jezelf meer in resonantie te brengen. Het leven zorgt dat we wel eens bedrukt of versluierd zijn. Door naar binnen te keren of in rust te gaan\, in combinatie met harmoniserende klanken\, gaat je zelfregulerend vermogen aangewakkerd worden. Soundhealing helpt om zeer snel in een diepe meditatieve staat te komen waarin deze zelfheling kan plaats vinden.\n  \n\n\nElke ceremonie draagt een bepaalde intentie (groeps- en individuele intentie) die richting geeft aan de invulling van de avond. Dit wordt bekrachtigd met de bijpassende klanken\, vibraties en begeleide meditatie. Voornamelijk richt het zich op een volledige doorstroming  en bewustzijn van je energetisch lichaam. Hierbij maakt ieder een individuele\, innerlijke reis die elke vezel van het lichaam aanspreekt.\n  \n\n\n\n\nhttps://www.soundandsilence.be/wp-content/uploads/2024/09/sound-ceremony.mp4\n\n  \nWat wordt er voorzien?\nEen comfortabel matje en een dekentje\, een meditatie kussen\, water\, thee en een kleine versnapering. Je kan zelf nog een kussen meenemen om onder je hoofd te leggen.\nWe starten tegen 19u30\, aankomen kan vanaf 19u15. \nWil je graag deel uitmaken van deze unieke Honour the Sacred – Sound Ceremonie?\nJe kan je inschrijven door te mailen naar geert@soundandsilence.be \nBijdrage voor de avond is 77 euro. Ter plaatse te betalen.\nPlaatsen zijn beperkt. Let op\, bij inschrijving via mail rekenen we op jouw aanwezigheid\, respecteer deze plaats en laat 24u op voorhand weten moest er een probleem zijn.
URL:https://www.soundandsilence.be/event/honourthesacredsoundceremony/
LOCATION:Sound & Silence Geetbets\, Hulsbeekstraat 120\, Geetbets\, Vlaams brabant\, 3450\, Belgium
CATEGORIES:Honour the Sacred
ATTACH;FMTTYPE=image/jpeg:https://www.soundandsilence.be/wp-content/uploads/2024/09/att.LjnB63uqhnjPuiI9JBCc13-YnpfwvrISqxAiGspYiVw.jpg
ORGANIZER;CN="Geert Kumpen":MAILTO:geert@soundandsilence.be
END:VEVENT
END:VCALENDAR