BEGIN:VCALENDAR
VERSION:2.0
PRODID:-//Sound &amp; Silence - ECPv6.15.5//NONSGML v1.0//EN
CALSCALE:GREGORIAN
METHOD:PUBLISH
X-WR-CALNAME:Sound &amp; Silence
X-ORIGINAL-URL:https://www.soundandsilence.be
X-WR-CALDESC:Evenementen voor Sound &amp; Silence
REFRESH-INTERVAL;VALUE=DURATION:PT1H
X-Robots-Tag:noindex
X-PUBLISHED-TTL:PT1H
BEGIN:VTIMEZONE
TZID:Europe/Amsterdam
BEGIN:DAYLIGHT
TZOFFSETFROM:+0100
TZOFFSETTO:+0200
TZNAME:CEST
DTSTART:20260329T010000
END:DAYLIGHT
BEGIN:STANDARD
TZOFFSETFROM:+0200
TZOFFSETTO:+0100
TZNAME:CET
DTSTART:20261025T010000
END:STANDARD
END:VTIMEZONE
BEGIN:VEVENT
DTSTART;TZID=Europe/Amsterdam:20260513T130000
DTEND;TZID=Europe/Amsterdam:20260513T160000
DTSTAMP:20260419T145654
CREATED:20250827T114153Z
LAST-MODIFIED:20260228T150906Z
UID:8775-1778677200-1778688000@www.soundandsilence.be
SUMMARY:Klankschalen workshop
DESCRIPTION:Zen met één slag – Klankschalen brengen je in het Nu \n\n\n\n\n\n\nErvaar de kracht van klankschalen om volledig in het moment te zijn. Klankschalen helpen je om je zintuigen te openen en je lichaam in een staat van aandacht te brengen. Klankschalen zijn een snelle en effectieve manier om je af te stemmen op je innerlijke wereld. \n\n\n\n\n\n\nWat je leert in deze workshop \nDeze workshop biedt je de kans om niet alleen te leren spelen met klankschalen\, maar ook te ontdekken hoe je ze kunt gebruiken voor je eigen welzijn. Klankschalen werken direct in op je gevoel\, vertragen je gedachten en brengen je aandacht naar binnen. Hierdoor kom je in verbinding met de diepe harmonie die het lichaam\, de geest en emoties kunnen bereiken. \nWe behandelen verschillende aanspeeltechnieken\, het gebruik van verschillende kloppers en soorten klankschalen\, en het effect van aanslaan versus laten zingen. De focus ligt op de praktische toepassing van de klankschaal en de toegevoegde waarde voor jezelf op het gebied van energetisch welzijn\, bewustwording en persoonlijke groei. \n \nVerdiep je verder \nWil je de werking van klankschalen verder onderzoeken\, bijvoorbeeld voor therapeutische doeleinden? Overweeg dan de 2-daagse klankschalenopleiding voor een verdiepte ervaring. \nWe kijken ernaar uit je te verwelkomen! \n  \nPraktische Info – Klankschalen Workshop \nTijd: De workshop is van 13u tot 16u. \nLocatie: Sound & Silence\, Hulsbeekstraat 120\, 3450 Geetbets \nWat mee te nemen: \n\nWe voorzien water\, thee\, kleine versnaperingen\, klankschalen\nHeb je zelf klankschalen\, neem deze gerust mee.\n\nBijdrage: Glijdende prijs: €55 – €77. We willen deze workshop voor iedereen toegankelijk maken\, dus draag bij wat het voor jou waard is of wat op dit moment haalbaar is. De betaling van het gekozen bedrag kan op IBAN: BE68 3770 2497 7234 of ter plaatse op de dag van de activiteit. \nInschrijven: via mail naar geert@soundandsilence.be of via onderstaand formulier\nmet vermelding van de workshop en datum. \n\n\n  \n\n\n\n Voornaam (*verplicht)\n \n \n Achternaam*\n \n \n E-mailadres*\n \n \n Gsm-nummer*\n \n \n Onderwerp*\n \n \n Bericht\n \n \nSchrijf me in voor de nieuwsbrief. LET OP enkel geregistreerd na bevestigingsmail (check SPAM)\n \n\n \n			Your browser does not support JavaScript!. Please enable javascript in your browser in order to get form work properly.\n	\n\n\n\nKlankschalen: \n\nJe kan tijdens de workshop gebruik maken van een groot assortiment klankschalen.\nKlankschalen zijn ook te koop in Geetbets.\n\nJe kunt ze aanschaffen op de dag van de workshop of op 1-op-1 basis via een persoonlijke afspraak.\nDe winkel is alle dagen open\, enkel op afspraak)\n\n\n\nBij Sound & Silence kan je terecht voor de aankopen van klankschalen alsook voor workshop voor het gebruik van klankschalen
URL:https://www.soundandsilence.be/event/klankschalen-workshop-3/
LOCATION:Sound & Silence Geetbets\, Hulsbeekstraat 120\, Geetbets\, Vlaams brabant\, 3450\, Belgium
CATEGORIES:Sound Healing
ATTACH;FMTTYPE=image/jpeg:https://www.soundandsilence.be/wp-content/uploads/2022/11/klankschalen-2-2.jpg
ORGANIZER;CN="Geert Kumpen":MAILTO:geert@soundandsilence.be
END:VEVENT
BEGIN:VEVENT
DTSTART;TZID=Europe/Amsterdam:20260513T193000
DTEND;TZID=Europe/Amsterdam:20260513T213000
DTSTAMP:20260419T145654
CREATED:20251230T100620Z
LAST-MODIFIED:20260403T160626Z
UID:8984-1778700600-1778707800@www.soundandsilence.be
SUMMARY:Natuurlijke Adem en Stem avond
DESCRIPTION:Een avond heerlijk in je lijf komen\nJe adem en stem zijn van nature verbonden met je hele lichaam. Toch raken ze vaak gestuurd\, vast of beperkt\, alsof de adem alleen in de borst zit en de stem enkel uit de keel komt. Door contact te maken met je lichaam\, ontstaan er adem- en stemprocessen die gedragen worden door heel je systeem. \nHet is heel gebruikelijk dat de adem gestuurd wordt\, dat de stem enkel vanuit de keel komt. In dit geval gebruik is er wilskracht betrokken. Als je terug de verbinding met je lichaam maakt worden deze processen ondersteund door heel je lichaamsgestel. De adem gaat vrijer stromen en je stem wordt voller. \nHet lichaam als één geheel\nOns lichaam bestaat uit vele compartimenten die met elkaar verbonden zijn. Wanneer één compartiment alle spanning moet dragen\, ontstaan overspanning en onderspanning. Als het hele lichaam meebeweegt\, wordt spanning verdeeld\, ontstaat ruimte en fungeert je lichaam opnieuw als een klankkast. Een verbonden lichaam geeft je adem meer diepte en je stem meer resonantie. \nTijdens deze avond:\n\nkom je in verbinding met je natuurlijke adem\nvind je zachte bewegingen voor je lichaam\nlaat je een ongedwongen stemklank ontstaan\nbreng je je lichaam volledig in aanwezigheid en vitaliteit\n\nPraktische informatie\nTijd\n19u30 tot 21u30 (deuren open om 19u15)  \nLocatie\nHulsbeekstraat 120\, Geetbets \nBijdrage€35 – €55 (glijdende schaal)Draag je graag bij aan toegankelijkheid? Kies dan voor een hoger tarief zodat ook anderen kunnen deelnemen. Betalen kan via BE68 3770 2497 7234 of ter plaatse. \nInschrijven\nvia onderstaand formulier met vermelding van de activiteit en datum. \nWat mee te brengen?\nComfortabele kledij\nWij voorzien water\, thee en een kleine versnapering. \n\n\n  \n\n\n\n Voornaam (*verplicht)\n \n \n Achternaam*\n \n \n E-mailadres*\n \n \n Gsm-nummer*\n \n \n Onderwerp*\n \n \n Bericht\n \n \nSchrijf me in voor de nieuwsbrief. LET OP enkel geregistreerd na bevestigingsmail (check SPAM)\n \n\n \n			Your browser does not support JavaScript!. Please enable javascript in your browser in order to get form work properly.\n	\n\n\n\nNieuwsgierig naar een langer traject of opleiding?\nKijk dan even hier!
URL:https://www.soundandsilence.be/event/natuurlijke-adem-en-stem-avond-copy/
LOCATION:Sound & Silence Geetbets\, Hulsbeekstraat 120\, Geetbets\, Vlaams brabant\, 3450\, Belgium
ATTACH;FMTTYPE=image/jpeg:https://www.soundandsilence.be/wp-content/uploads/2025/01/behandeling-4.jpg
ORGANIZER;CN="Geert Kumpen":MAILTO:geert@soundandsilence.be
END:VEVENT
END:VCALENDAR