BEGIN:VCALENDAR
VERSION:2.0
PRODID:-//Sound &amp; Silence - ECPv6.15.5//NONSGML v1.0//EN
CALSCALE:GREGORIAN
METHOD:PUBLISH
X-ORIGINAL-URL:https://www.soundandsilence.be
X-WR-CALDESC:Evenementen voor Sound &amp; Silence
REFRESH-INTERVAL;VALUE=DURATION:PT1H
X-Robots-Tag:noindex
X-PUBLISHED-TTL:PT1H
BEGIN:VTIMEZONE
TZID:Europe/Amsterdam
BEGIN:DAYLIGHT
TZOFFSETFROM:+0100
TZOFFSETTO:+0200
TZNAME:CEST
DTSTART:20250330T010000
END:DAYLIGHT
BEGIN:STANDARD
TZOFFSETFROM:+0200
TZOFFSETTO:+0100
TZNAME:CET
DTSTART:20251026T010000
END:STANDARD
END:VTIMEZONE
BEGIN:VEVENT
DTSTART;TZID=Europe/Amsterdam:20251126T193000
DTEND;TZID=Europe/Amsterdam:20251126T210000
DTSTAMP:20260419T145740
CREATED:20250920T005345Z
LAST-MODIFIED:20251014T174618Z
UID:8810-1764185400-1764190800@www.soundandsilence.be
SUMMARY:Handpan Concert
DESCRIPTION:Wegdromen op de klanken van de handpan.\n\n  \nZinderende klanken van de handpan\, gecombineerd met zang en wereldmuziek\, voeren je mee naar een ongekende diepte. Een avond heerlijk genieten van een veelheid aan unieke instrumenten\, authentieke en bezield gebracht.\n\n  \n\n\nhttps://www.soundandsilence.be/wp-content/uploads/2025/09/handpan-26nov.mp4\n  \n  \n\n\nEen avond van bezinning\, avontuur\, verwondering en verstilling\n\n\nDe magische klank van de handpan nodigt uit tot diepe rust en innerlijke verstilling. Geert neemt je als ervaren muzikant mee op een muzikale reis\, vol verhalen en met een brede waaier aan handpannen. \nGeert Kumpen is multi-intrumentalist en laat zich inspireren door oude natuurvolken en intuïtieve muzikaliteit. Sinds 2010 brengt hij concerten in binnen- en buitenland. \nLivingroom.\n\nDit concert gaat door in de intieme ruimte van Sound & Silence met een beperkt aantal personen in een huiselijke sfeer. \nPraktische informatie\nWat dien je te voorzien? \nDit concert is zittend. Wij voorzien voor jou een stoelt of een meditatie kussen\, alsook water\, thee en een kleine versnapering na de sessie. \nTijd: We starten tegen 19u30\, aankomen kan vanaf 19u15. Einde is rond 21u \nLocatie: Sound & Silence\, Hulsbeekstraat 120\, 3450 Geetbets \nBijdrage: 25 euro\nDe betaling kan op IBAN: BE68 3770 2497 7234 of ter plaatse\, aan het begin van het concert. \nInschrijven: via mail naar geert@soundandsilence.be of via onderstaand formulier \n\n\n  \n\n\n\n Voornaam (*verplicht)\n \n \n Achternaam*\n \n \n E-mailadres*\n \n \n Gsm-nummer*\n \n \n Onderwerp*\n \n \n Bericht\n \n \nSchrijf me in voor de nieuwsbrief. LET OP enkel geregistreerd na bevestigingsmail (check SPAM)\n \n\n \n			Your browser does not support JavaScript!. Please enable javascript in your browser in order to get form work properly.\n	\n\n\n\nPlaatsen zijn beperkt. Let op\, bij inschrijving via mail rekenen we op jouw aanwezigheid\, respecteer deze plaats en laat 24u op voorhand weten moest er een probleem zijn. \n\nLovetomorrow ’23
URL:https://www.soundandsilence.be/event/handpanconcert/
LOCATION:Sound & Silence Geetbets\, Hulsbeekstraat 120\, Geetbets\, Vlaams brabant\, 3450\, Belgium
ATTACH;FMTTYPE=image/jpeg:https://www.soundandsilence.be/wp-content/uploads/2025/09/geert-handpan.jpg
ORGANIZER;CN="Geert Kumpen":MAILTO:geert@soundandsilence.be
END:VEVENT
END:VCALENDAR