BEGIN:VCALENDAR
VERSION:2.0
PRODID:-//Sound &amp; Silence - ECPv6.15.5//NONSGML v1.0//EN
CALSCALE:GREGORIAN
METHOD:PUBLISH
X-ORIGINAL-URL:https://www.soundandsilence.be
X-WR-CALDESC:Evenementen voor Sound &amp; Silence
REFRESH-INTERVAL;VALUE=DURATION:PT1H
X-Robots-Tag:noindex
X-PUBLISHED-TTL:PT1H
BEGIN:VTIMEZONE
TZID:Europe/Amsterdam
BEGIN:DAYLIGHT
TZOFFSETFROM:+0100
TZOFFSETTO:+0200
TZNAME:CEST
DTSTART:20250330T010000
END:DAYLIGHT
BEGIN:STANDARD
TZOFFSETFROM:+0200
TZOFFSETTO:+0100
TZNAME:CET
DTSTART:20251026T010000
END:STANDARD
END:VTIMEZONE
BEGIN:VEVENT
DTSTART;TZID=Europe/Amsterdam:20251101T170000
DTEND;TZID=Europe/Amsterdam:20251101T220000
DTSTAMP:20260419T162610
CREATED:20251008T162053Z
LAST-MODIFIED:20251101T085237Z
UID:8840-1762016400-1762034400@www.soundandsilence.be
SUMMARY:Big Sacred Samhain Family Fire
DESCRIPTION:Gezelligheid\, diepgang en viering\, … Deze combinatie brengen we samen rond een Samhain Family Fire\, waar iedereen welkom is.  \nEen vuur ter ere van onze VOOROUDERS maar ook voor onze volgende GENERATIE \nWe komen samen rond het vuur voor een moment van bezinning en verbinding\, waar je betekenisvol iets kan schenken aan het vuur. \nSamen delen\, zingen\, drummen en eren.\nDat met een warme tas soep en fijn gezelschap.  \nZo creëren we samen een warmte die nog lang mag nagloeien  \nPraktisch\nOp dit event zijn alle leeftijden welkom. \n\nDatum & Tijd: 1 november. We starten om 17u\, einde rond 22u.\nLocatie: Sound & Silence – Hulsbeekstraat 120\, Geetbets\nInschrijving: via  onderstaand formulier of via geert@soundandsilence.be – vermeld naam\, workshop en datum\nBijdrage: Vrije bijdrage\, de dag zelf mee te nemen of via overschrijving op  IBAN: BE68 3770 2497 7234.\n\nWat mee te nemen: Wij voorzien warme tas soep.\nZorg voor kleding en schoenen die passen bij het weer van de dag. Ps voor de kids: Lampionnetjes zijn welkom voor een spannende tocht door de tuin 😉\n\n\n Voorbereiding: indien gewenst\, sta even stil bij je intentie\, wil je iets schenken aan het vuur (enkel natuurlijke materialen)\nBegeleiding: Geert Kumpen en Kristien Gounakis\n\n \nInschrijven kan via dit formulier: \n\n\n  \n\n\n\n Voornaam (*verplicht)\n \n \n Achternaam*\n \n \n E-mailadres*\n \n \n Gsm-nummer*\n \n \n Onderwerp*\n \n \n Bericht\n \n \nSchrijf me in voor de nieuwsbrief. LET OP enkel geregistreerd na bevestigingsmail (check SPAM)\n \n\n \n			Your browser does not support JavaScript!. Please enable javascript in your browser in order to get form work properly.
URL:https://www.soundandsilence.be/event/samhain-fire/
LOCATION:Sound & Silence Geetbets\, Hulsbeekstraat 120\, Geetbets\, Vlaams brabant\, 3450\, Belgium
ATTACH;FMTTYPE=image/jpeg:https://www.soundandsilence.be/wp-content/uploads/2025/10/Big-Sacred-samhain-family-fire-Presentatie.jpg
ORGANIZER;CN="Geert Kumpen":MAILTO:geert@soundandsilence.be
END:VEVENT
END:VCALENDAR