BEGIN:VCALENDAR
VERSION:2.0
PRODID:-//Sound &amp; Silence - ECPv6.15.5//NONSGML v1.0//EN
CALSCALE:GREGORIAN
METHOD:PUBLISH
X-WR-CALNAME:Sound &amp; Silence
X-ORIGINAL-URL:https://www.soundandsilence.be
X-WR-CALDESC:Evenementen voor Sound &amp; Silence
REFRESH-INTERVAL;VALUE=DURATION:PT1H
X-Robots-Tag:noindex
X-PUBLISHED-TTL:PT1H
BEGIN:VTIMEZONE
TZID:Europe/Amsterdam
BEGIN:DAYLIGHT
TZOFFSETFROM:+0100
TZOFFSETTO:+0200
TZNAME:CEST
DTSTART:20250330T010000
END:DAYLIGHT
BEGIN:STANDARD
TZOFFSETFROM:+0200
TZOFFSETTO:+0100
TZNAME:CET
DTSTART:20251026T010000
END:STANDARD
END:VTIMEZONE
BEGIN:VEVENT
DTSTART;TZID=Europe/Amsterdam:20250215T130000
DTEND;TZID=Europe/Amsterdam:20250215T210000
DTSTAMP:20260420T053541
CREATED:20250114T122738Z
LAST-MODIFIED:20250209T142409Z
UID:8314-1739624400-1739653200@www.soundandsilence.be
SUMMARY:Honour your Connection
DESCRIPTION:Het weekend rond 14 februari is een moment van verbinding\, liefde en soundhealing. \nVrijdag 14/2 Sound Ceremony (Special Edition)\nZaterdag 15/2 Honour your Connection\nZondag 16/2 Zweethut Ceremonie.\nHonour Your Connection – Dagretreat op 15 februari \nIn verbinding met anderen leer je jezelf kennen \n  \nVerbinding is de sleutel tot groei\, zowel met onszelf als met anderen. Op zaterdag 15 februari nodigen we je uit voor een bijzondere dag om deze verbinding te eren.\nDeze dag is voor duo’s\, niet per se in een romantische relatie\, maar voor iedereen die bereid is om de kracht van verbinding te ervaren. Of je nu een partner\, vriend of familielid meebrengt\, het draait om het aangaan van contact op een dieper niveau.\nNiet op een intieme manier\, maar door authentieke en respectvolle interacties.\nWe beginnen de dag met het versterken van de verbinding met jezelf. Wat betekent het om in het moment aanwezig te zijn? Hoe kun je liefdevol en zorgzaam voor jezelf zijn\, terwijl je tegelijkertijd ruimte maakt voor anderen? We verkennen manieren om in verbinding met anderen te staan zonder onze eigen grenzen en zelfzorg uit het oog te verliezen.\nVerbinding begint met het erkennen van verschillen en het leren voelen van de ander. Het is een kunst om je open te stellen\, elkaar te zien en te voelen en tegelijk trouw te blijven aan je eigen innerlijke kompas. Tijdens deze dagretreat leer je niet alleen de ander beter te begrijpen\, maar ook jezelf in nieuwe manieren te ontdekken.\nDe dag staat in het teken van: \n\nZelfliefde en persoonlijke groei\nAandacht en zorg voor jezelf en de ander\nHet versterken van authentieke verbindingen\, zonder druk of verwachtingen\nHet leren voelen van de ander in plaats van het projecteren van eigen behoeftes\nHet respecteren van verschillen en het omarmen van verandering\n\n  \nWaarom deelnemen? Als je verlangt naar diepere\, betekenisvollere verbindingen met anderen\, is deze dag een kans om te leren\, te groeien en jezelf op een nieuwe manier te ervaren. We bieden een veilige ruimte om te verkennen wat het betekent om een ander écht te zien en te voelen\, zonder de druk van intimiteit.\nWe hopen dat je met een hart vol nieuwe inzichten en een breder gevoel van verbondenheid deze dag zult verlaten. Een dag waarin je jezelf en de ander kunt erkennen\, voelen en vieren. \n  \nDe Honour your Connection dagretreat wordt begeleid door Geert Kumpen en Kristien Gounakis. \n \n  \nTijdverloop. \nWe beginnen om 13u en sluiten de dag aan een vuur af rond 21u.\nTussen in is er een potluck waar we samen een maaltijd delen. \nWat is er voorzien?\nWij voorzien water\, thee\, kleine versnapering. Matrasje\, meditatiekussen en deken zijn ook aanwezig. \nVoorzie extra wandelschoenen en warme kledij voor\, in de avond\, buiten rond het vuur. \n  \nLocatie:\nSound & Silence\, Hulsbeekstraat 120\, 3450 Geetbets \n  \nBijdrage \nGlijdende prijs 99 – 144 euro. Hoe werkt een glijdende prijs? We maken dit event graag voor iedereen mogelijk. Je kan dus bijdragen wat het voor jou waard is of wat er op dit moment mogelijk is. \n  \nInschrijving gebeurt via mail naar geert@soundandsilence.be met hierin je de namen van de deelnemer(s). Betaling van het gekozen bedrag kan via overschrijving IBAN: BE68 3770 2497 7234 met vermelding van de activiteit of ter plaatse\, \nPlaatsen zijn beperkt. Let op\, bij inschrijving via mail rekenen we op jouw aanwezigheid\, respecteer deze plaats en laat 24u op voorhand weten moest er een probleem zijn.
URL:https://www.soundandsilence.be/event/honour-your-connection/
LOCATION:Sound & Silence Geetbets\, Hulsbeekstraat 120\, Geetbets\, Vlaams brabant\, 3450\, Belgium
CATEGORIES:Honour the Sacred
ATTACH;FMTTYPE=image/jpeg:https://www.soundandsilence.be/wp-content/uploads/2024/09/att.6pN2vc1-MU7Dr_wwhZW8dZHZ9S9iO4HCW8uGWSNGzPk.jpg
ORGANIZER;CN="Kristien Gounakis":MAILTO:kristien.gounakis@outlook.com
END:VEVENT
END:VCALENDAR