BEGIN:VCALENDAR
VERSION:2.0
PRODID:-//Sound &amp; Silence - ECPv6.15.5//NONSGML v1.0//EN
CALSCALE:GREGORIAN
METHOD:PUBLISH
X-WR-CALNAME:Sound &amp; Silence
X-ORIGINAL-URL:https://www.soundandsilence.be
X-WR-CALDESC:Evenementen voor Sound &amp; Silence
REFRESH-INTERVAL;VALUE=DURATION:PT1H
X-Robots-Tag:noindex
X-PUBLISHED-TTL:PT1H
BEGIN:VTIMEZONE
TZID:Europe/Amsterdam
BEGIN:DAYLIGHT
TZOFFSETFROM:+0100
TZOFFSETTO:+0200
TZNAME:CEST
DTSTART:20240331T010000
END:DAYLIGHT
BEGIN:STANDARD
TZOFFSETFROM:+0200
TZOFFSETTO:+0100
TZNAME:CET
DTSTART:20241027T010000
END:STANDARD
END:VTIMEZONE
BEGIN:VEVENT
DTSTART;TZID=Europe/Amsterdam:20241220T200000
DTEND;TZID=Europe/Amsterdam:20241220T220000
DTSTAMP:20260420T084732
CREATED:20241030T200137Z
LAST-MODIFIED:20241211T093732Z
UID:8136-1734724800-1734732000@www.soundandsilence.be
SUMMARY:Soundhealing Concert Clarenhof
DESCRIPTION:Soundhealing Concert – Sound & Silence – (new concept)\nDe avond voor de winterzonnewende\, is een moment om thuis te komen in de warmte van de donkere dagen en te verbinden met authentieke klanken. Dit is geen soundhealing reis zoals je misschien al een keer hebt meegemaakt\, maar wel een interactieve\, energetische klankreis. \n  \nJe kan als deelnemer van dit concert heerlijk luisteren naar universele boventoonklanken\, unieke instrumenten van over de hele wereld\, oerinstrumenten\, …\nMaar het is evenzeer een verhaal/beweging binnenin onszelf. Van hoofd naar hart\, van buik naar bekken\, van top tot teen en ver daarbuiten.\nDit allemaal afgewisseld met interactieve momenten om te komen tot een uniek vervullend geheel. \n  \nDe Clarenhofkapel is een mooie akoestische en energetische ruimte waar klanken voelbaar worden. Muziek beleven is stappen in een reis waarin je deel wordt van de klank\, waar klank en gevoel zich een weg banen naar diep\, liefdevol aanwezig zijn. Verwacht je aan een moment van verbondenheid\, verwondering\, verschillende emoties en gevoelens\, verstilling en eenheid. \nKlein weetje\, voor degene die me even volgen. Deze locatie heb ik vijfenhalf jaar geleden ook gebruikt voor de voorstelling van mijn toenmalige cd release Eniyua\, juni 2019 remember? 😉 \nWat ik alvast van de mooie akoestische ruimte heb geleerd is om af te stemmen op de gehele klank\, de unieke versmeltingen van eigen klanken met de reflecties van de ruimte. Verwacht je dus niet aan en vast programma\, maar wel aan het weven van een klankverhaal waarin ik evenveel meeluister als jou naar wat komen gaat. \nNieuw is aan dit concept is om het concert volledig zittend te laten doorgaan. Je kan kiezen om te zitten op een stoel of een meditatiekussen. Stoelen zijn aanwezig\, andere materialen dien je zelf mee te nemen. \nLocatie \nClarenhofkapel in Guffenslaan 43\, Hasselt \nWe starten om 20u\, welkom vanaf 19u30.\nNeem voldoende tijd om een parkeerplek te vinden. Je kan altijd parkeren aan het cultureel centrum of het Dusartplein. \nBijdrage \nGlijdende prijs 25-45 euro. \nHoe werkt een glijdende prijs? We maken dit event graag voor iedereen mogelijk. Je kan dus bijdragen wat het voor jou waard is of wat er op dit moment mogelijk is. \nInschrijving gebeurt via mail naar geert@soundandsilence.be met hierin je de namen van de deelnemers en de persoonlijke voorkeur (zittend op stoel of meditatiekussen)\nén\nmet de betaling van het gekozen bedrag op IBAN: BE68 3770 2497 7234\nVermelding concert 20/12 en de namen van al de deelnemers. \n  \nPlaatsen zijn beperkt. Let op\, bij inschrijving via mail rekenen we op jouw aanwezigheid\, respecteer deze plaats en laat 24u op voorhand weten moest er een probleem zijn. \n  \nWe geven de dag erna een verdiepende retreat op deze locatie. Een uniek event om helemaal te verbinden met de krachtige energie van de winterzonnewende. meer info op deze pagina. \n \n  \nDit concert wordt gebracht door Geert Kumpen\, begonnen met Sound & Silence sinds 2010 en sindsdien actief via talloze soundhealing concerten\, als lesgever en behandelaar.\nZijn muziek nodigt uit om één te worden met de klanken en hij weet een unieke combinatie te maken tussen soundhealing en wereldmuziek. Muzikaliteit en energie vloeien samen tot een reis van voelbare klanken. \n  \n \n  \n 
URL:https://www.soundandsilence.be/event/soundhealing-concert-clarenhof/
LOCATION:Clarenhofkapel Hasselt\, Guffenslaan 43\, Hasselt\, 3500\, België
ATTACH;FMTTYPE=image/jpeg:https://www.soundandsilence.be/wp-content/uploads/2024/10/clarenhof-ruimte.jpg
ORGANIZER;CN="Geert Kumpen":MAILTO:geert@soundandsilence.be
END:VEVENT
END:VCALENDAR