BEGIN:VCALENDAR
VERSION:2.0
PRODID:-//Sound &amp; Silence - ECPv6.15.5//NONSGML v1.0//EN
CALSCALE:GREGORIAN
METHOD:PUBLISH
X-ORIGINAL-URL:https://www.soundandsilence.be
X-WR-CALDESC:Evenementen voor Sound &amp; Silence
REFRESH-INTERVAL;VALUE=DURATION:PT1H
X-Robots-Tag:noindex
X-PUBLISHED-TTL:PT1H
BEGIN:VTIMEZONE
TZID:Europe/Amsterdam
BEGIN:DAYLIGHT
TZOFFSETFROM:+0100
TZOFFSETTO:+0200
TZNAME:CEST
DTSTART:20240331T010000
END:DAYLIGHT
BEGIN:STANDARD
TZOFFSETFROM:+0200
TZOFFSETTO:+0100
TZNAME:CET
DTSTART:20241027T010000
END:STANDARD
END:VTIMEZONE
BEGIN:VEVENT
DTSTART;TZID=Europe/Amsterdam:20241026T100000
DTEND;TZID=Europe/Amsterdam:20241026T160000
DTSTAMP:20260420T120516
CREATED:20241005T094841Z
LAST-MODIFIED:20241018T023039Z
UID:8058-1729936800-1729958400@www.soundandsilence.be
SUMMARY:Stembevrijding- pure voice
DESCRIPTION:Je eigen stem terug durven gebruiken\, is openen voor je eigen levensenergie\n\nJe eigen stem durven gebruiken\, is openen voor je eigen levensenergie. \nIn je stem zit de kracht om de ruimte in en rondom jou te vullen met energie. Dit is direct verbonden met hoe je in je vel zit\, alsook hoe je richting kan geven aan je leven/omgeving. \nHet gebruik van je stem is\, zeker in kinderjaren\, heel gevoelig voor de mening en invloeden van buitenaf. Dit is ook direct verbonden met gezien en gehoord worden op sociaal en emotioneel gebieden. Terug steun\, erkenning en ruimte geven aan je eigen klank is enorm verrijkend. Terug je stem durven gebruiken\, zonder oordeel over onszelf of een ander. \nIn het gebruik van je stem zit dus een zekere kwetsbaarheid maar ook een grote kracht. Deze dag creëren we een veilige setting om van kwetsbaarheid naar kracht te gaan. In kleine groep verkennen we onze eigen binnenruimte en geven van daaruit meer veerkracht aan onze stem en de mogelijkheid tot expressie. \nVerwacht je aan een dag vol verbinding\, emotie\, doorstroming en pure stem klanken\, begeleid met piano en andere instrumenten. \nDeze dag is een mooie voorbereiding op de Shamanic Voice workshop \nWat wordt er voorzien?\nWij voorzien een matje en dekentje\, een meditatie kussen of stoel\, water\, thee\, kleine versnapering en een warme tas soep voor ‘s middags. Je kan nog iets extra meenemen voor bij de soep. Neem ook iets mee om te schrijven.\nWe starten om 10u\, aankomen kan vanaf 9u50. Einde om 16u.\nDeze dag wordt begeleid door Geert Kumpen. \nWil je graag deel uitmaken van deze unieke Pure Voice – stembevrijding\nJe kan je inschrijven door te mailen naar geert@soundandsilence.be \nBijdrage voor de dag is 125 euro.  (Indien je boekt voor het hele weekend (shamanic voice) krijg je 10% korting) Betalingsinfo volgt bij inschrijving. \nPlaatsen zijn beperkt. Let op\, bij inschrijving via mail rekenen we op jouw aanwezigheid\, respecteer deze plaats en laat 24u op voorhand weten moest er een probleem zijn.
URL:https://www.soundandsilence.be/event/stembevrijding-pure-voice/
LOCATION:Sound & Silence Geetbets\, Hulsbeekstraat 120\, Geetbets\, Vlaams brabant\, 3450\, Belgium
ATTACH;FMTTYPE=image/png:https://www.soundandsilence.be/wp-content/uploads/2024/10/Scherm­afbeelding-2024-07-04-om-07.01.38.png
ORGANIZER;CN="Geert Kumpen":MAILTO:geert@soundandsilence.be
END:VEVENT
END:VCALENDAR