BEGIN:VCALENDAR
VERSION:2.0
PRODID:-//Sound &amp; Silence - ECPv6.15.5//NONSGML v1.0//EN
CALSCALE:GREGORIAN
METHOD:PUBLISH
X-WR-CALNAME:Sound &amp; Silence
X-ORIGINAL-URL:https://www.soundandsilence.be
X-WR-CALDESC:Evenementen voor Sound &amp; Silence
REFRESH-INTERVAL;VALUE=DURATION:PT1H
X-Robots-Tag:noindex
X-PUBLISHED-TTL:PT1H
BEGIN:VTIMEZONE
TZID:Europe/Amsterdam
BEGIN:DAYLIGHT
TZOFFSETFROM:+0100
TZOFFSETTO:+0200
TZNAME:CEST
DTSTART:20190331T010000
END:DAYLIGHT
BEGIN:STANDARD
TZOFFSETFROM:+0200
TZOFFSETTO:+0100
TZNAME:CET
DTSTART:20191027T010000
END:STANDARD
END:VTIMEZONE
BEGIN:VEVENT
DTSTART;TZID=Europe/Amsterdam:20190621T200000
DTEND;TZID=Europe/Amsterdam:20190621T220000
DTSTAMP:20260424T171904
CREATED:20190426T101432Z
LAST-MODIFIED:20190504T140526Z
UID:6654-1561147200-1561154400@www.soundandsilence.be
SUMMARY:Vuurceremonie - zomerzonnewende | 21 juni 2019
DESCRIPTION:Vuurceremonie\nRond de overgang van de 4 seizoenen organiseren we een vuurceremonie gecombineerd met liederen en drumcirkel.\nMet een stukje hout\, je aanwezigheid en intenties\, eventueel een drum of shaker\, maken we verbinding met onszelf\, de natuur en het vuur. Tijdens dit sacrale gebeuren is er ruimte voor viering\, verbinding\, intenties kracht bij zetten\, reflectie\, zingen en drummen. Kort samengevat elkaar versterken en samen genieten! \n\nReacties: Het was  even het paradijs op aarde! Het vuurritueel was zo mooi en sereen. De verbondenheid met het vuur was zeer goed voelbaar. Het heeft mij kracht en vergeving geschonken. Ik kijk zeker uit naar het volgend vuur. “Mieke” \n\nDit ritueel is ter ere van de aarde en het grote mysterie. De meest ideale manier om hiermee kennis te maken is door in de natuur te zijn. We verzamelen rond een heilig vuur. Via verbinding en intentie creëren we een ‘sacred space’. De zuiverende werking van het vuur wordt versterkt door spiritliederen. Hierdoor openen we ons voor de onzichtbare wereld in onszelf en rondom ons. Het naar binnen keren\, bidden en contact maken met het vuur kan een transformatie betekenen voor alle aanwezigen. Deze viering geven we kracht bij met de drum en zang. Allen welkom op dit feest voor eenheid\, liefde en verbondenheid. \nwat neem je mee: stukje hout om aan het vuur te schenken. Jouw intentie. Eventueel je eigen drum of shaker. \n\nJe kan inschrijven via onderstaand formulier:\nTickets: voorverkoop 20 euro\, kassa 25 euro\nJe inschrijving is definitief na storting met vermelding van naam en datum concert\nIBAN: BE68 3770 2497 7234\nBIC: BBRUBEBB \nFout: Contact formulier niet gevonden. \n 
URL:https://www.soundandsilence.be/event/event-for-ceremonie-4th-april-2019/
LOCATION:Limburg
ATTACH;FMTTYPE=image/jpeg:https://www.soundandsilence.be/wp-content/uploads/2019/04/vuurceremonie-header-1.jpg
ORGANIZER;CN="Geert Kumpen":MAILTO:geert@soundandsilence.be
END:VEVENT
END:VCALENDAR