BEGIN:VCALENDAR
VERSION:2.0
PRODID:-//Sound &amp; Silence - ECPv6.15.5//NONSGML v1.0//EN
CALSCALE:GREGORIAN
METHOD:PUBLISH
X-WR-CALNAME:Sound &amp; Silence
X-ORIGINAL-URL:https://www.soundandsilence.be/en
X-WR-CALDESC:Events for Sound &amp; Silence
REFRESH-INTERVAL;VALUE=DURATION:PT1H
X-Robots-Tag:noindex
X-PUBLISHED-TTL:PT1H
BEGIN:VTIMEZONE
TZID:Europe/Amsterdam
BEGIN:DAYLIGHT
TZOFFSETFROM:+0100
TZOFFSETTO:+0200
TZNAME:CEST
DTSTART:20250330T010000
END:DAYLIGHT
BEGIN:STANDARD
TZOFFSETFROM:+0200
TZOFFSETTO:+0100
TZNAME:CET
DTSTART:20251026T010000
END:STANDARD
END:VTIMEZONE
BEGIN:VEVENT
DTSTART;TZID=Europe/Amsterdam:20250915T193000
DTEND;TZID=Europe/Amsterdam:20250917T220000
DTSTAMP:20260419T193242
CREATED:20250725T095622Z
LAST-MODIFIED:20250820T105137Z
UID:8718-1757964600-1758146400@www.soundandsilence.be
SUMMARY:Try out avonden
DESCRIPTION:Trajecten voor persoonlijke groei\n\n\nPersoonlijke groei is geen rechte lijn\, maar een gelaagde reis waarin lichaam\, emotie\, adem en bewustzijn elkaar raken.Bij Sound & Silence creëren we trajecten die tijd en ruimte bieden om écht te verdiepen. Elk traject benadert die innerlijke reis vanuit een ander perspectief – via klank\, adem\, stem of stilte – en nodigt je uit om te vertragen\, af te stemmen en bewuster aanwezig te zijn in je leven. \nWe werken in kleine groepen en met begeleiding die geworteld is in ervaring en lichaamswijsheid. Onze trajecten zijn verspreid over meerdere maanden\, zodat integratie en ontwikkeling in je eigen ritme kunnen plaatsvinden. Geen snelle oplossingen\, maar duurzame groei met aandacht voor wie jij bent en waar jij staat en waar je naartoe wil. \nOf je nu op zoek bent naar emotionele veerkracht\, meer zelfverbinding\, expressie of energetisch bewustzijn – er is altijd een ingang die bij je past. \nWe helpen je graag met je keuze door onze infoavonden en via een persoonlijk gesprek. \nVrije infoavonden en kennismakingsgesprekken\n\n\n\n\n\nNaar aanleiding van de komende trajecten organiseren we enkele avonden om kennis te maken met de inhoud van de trajecten. Deze gaan door op onderstaande dagen van 19u30 tot 22u. Deelname is gratis na inschrijving via mail. \n\n\n\n\n\n\n18 augustus: Natuurlijke Adem en Stem \n19 augustus: Intuïtief Musiceren (evening Jamm) \n20 augustus: Soundhealing & Ancient Wisdom \n  \n\n\n\n\n\n\n\n\n\n\n15 september: Soundhealing & Ancient Wisdom \n16 september: Natuurlijke Adem en Stem \n17 september: Intuïtief Musiceren (evening Jamm) \n18 september: Open info avond (alle trajecten) \n  \n\nBij interesse in een traject vragen we ook een persoonlijk gesprek hier in Geetbets of via een online call. \nWij kijken er naar uit om je te ontmoeten. \n\nGeert & Kristien
URL:https://www.soundandsilence.be/en/event/trajecten-sound-silence/
LOCATION:Sound & Silence Geetbets\, Hulsbeekstraat 120\, Geetbets\, Vlaams brabant\, 3450\, Belgium
CATEGORIES:Honour the Sacred
ATTACH;FMTTYPE=image/jpeg:https://www.soundandsilence.be/wp-content/uploads/2025/01/Honour-the-Sacred-KG.jpg
ORGANIZER;CN="Kristien Gounakis":MAILTO:kristien.gounakis@outlook.com
END:VEVENT
BEGIN:VEVENT
DTSTART;TZID=Europe/Amsterdam:20250917T130000
DTEND;TZID=Europe/Amsterdam:20250917T160000
DTSTAMP:20260419T193242
CREATED:20250417T113028Z
LAST-MODIFIED:20250725T104254Z
UID:8459-1758114000-1758124800@www.soundandsilence.be
SUMMARY:Handpan workshop
DESCRIPTION:Handpan\nIntuïtief spelen met de handpan\, leert je echt genieten van een instrument\n  \nHet spelen van muziek kan een waar genot zijn\, maar vaak zitten we zo in ons hoofd dat we vergeten te genieten. De handpan is een relatief eenvoudig instrument waar je heel vrij op kan spelen. Het neemt je mee in het plezier van muziek maken. \n  \nDe handpan lijkt een heel eenvoudig instrument te zijn maar toch vraagt het enige behendigheid en knowhow. In een gratis introductie\, privéles of handpan workshop\, leer je basis patronen\, aanslag\, en het vinden van je eigen grove. Als je éénmaal weet welke basisregels je rekening mee moet houden\, kan je op ontdekking gaan.\nJe persoonlijke relatie met het instrument brengt je naar jouw eigen unieke manier van spelen.\n  \n\n\nhttps://www.soundandsilence.be/wp-content/uploads/2022/11/intuitief-musiceren-16_9-web.mp4\n  \n\nEen handpan neemt je dus heel snel mee in een persoonlijk verhaal. Het nodigt uit om ‘aanwezig’ te zijn. Het is dus niet alleen een instrument leren spelen\, maar ook jezelf leren kennen.  Op die manier kan de handpan een vriend worden\, die je doet thuiskomen. Enkele minuten op de handpan na een werkdag en je zit er helemaal anders bij.\n\n  \nZit je vast in dezelfde ritmes of patronen en wil je verder groeien\, dan kan je altijd een privéles boeken. Hier ontdekken we op een afgestemde manier\, nieuwe mogelijkheden. Neem hiervoor contact met me op.\n  \nFilmpje van een handpan nummer Journey of the heart vind je hier:\nhttps://youtu.be/kA6yINTqH8s?feature=shared\nDien je een handpan te hebben voor deze workshop? \n Er zijn handpannen beschikbaar tijdens de workshop. Er zijn ook verschillende stemmingen aanwezig waardoor je kan uitproberen wat jou het meeste ligt.\n  \nHet is ook mogelijk om je eigen instrument mee te nemen als je dit hebt.\n\n\n  \nKan ik een handpan kopen?\n\nEen handpan kopen kan een hele zoektocht zijn.\nEr zijn grote verschillen in kwaliteit en duurzaamheid. \nBij Sound & Silence kan je terecht voor kwalitatieve handpannen. \n\nJe krijgt professionele begeleiding in het kiezen en bespelen van jouw handpan.\nJe kan verschillende stemmingen uitproberen.\nWil je toch nog iets anders? Een handpan volgens jouw gewenste stemming laten maken is ook mogelijk.\nOpvolging of herstel van je handpan kan\, door de goede samenwerking met een ervaren Belgische instrument bouwer.\nBij aankoop van een handpan krijgt u 1u gratis instructies.\nHandpan spelen verder ontwikkelen kan ook tijdens een privéles of in een groepsworkshop.\n\nOnze winkel werkt enkel op afspraak om de nodige persoonlijke begeleiding te kunnen garanderen.Neem hiervoor contact op via mail of whatsapp. \n\n  \nPraktisch\n\nvan 13u00 tot 16u00.\nBeschik je zelf over een D kurd handpan (of vergelijkbaar) laat het mij dan zeker weten.\n\nDeelname is bevestigd na inschrijving via mail (geert@soundandsilence.be) met vermelding van de workshop\, je naam en gsm nummer of email.\nHet gaat door in Geetbets\, Hulsbeekstraat 120.\nWe houden de groep bewust klein voor voldoende kwaliteit te kunnen aanbieden.\n\nParticulier prijs 99 euro\, per overschrijving of contant ter plaatse.\n\n\nDeze workshop wordt aangeboden door Geert Kumpen\,\n  \nEnkele geluidsvoorbeelden van zijn handpan spel kan je hieronder vinden:\nJourney of the heart single\n\nDharä album Eniyua\n\nMihira album Eniyua\n\n 
URL:https://www.soundandsilence.be/en/event/handpan-workshop-2-2/
LOCATION:Sound & Silence Geetbets\, Hulsbeekstraat 120\, Geetbets\, Vlaams brabant\, 3450\, Belgium
CATEGORIES:handpan
ATTACH;FMTTYPE=image/jpeg:https://www.soundandsilence.be/wp-content/uploads/2024/10/handpan-.jpg
ORGANIZER;CN="Geert Kumpen":MAILTO:geert@soundandsilence.be
END:VEVENT
END:VCALENDAR