BEGIN:VCALENDAR
VERSION:2.0
PRODID:-//Sound &amp; Silence - ECPv6.15.5//NONSGML v1.0//EN
CALSCALE:GREGORIAN
METHOD:PUBLISH
X-WR-CALNAME:Sound &amp; Silence
X-ORIGINAL-URL:https://www.soundandsilence.be/en
X-WR-CALDESC:Events for Sound &amp; Silence
REFRESH-INTERVAL;VALUE=DURATION:PT1H
X-Robots-Tag:noindex
X-PUBLISHED-TTL:PT1H
BEGIN:VTIMEZONE
TZID:Europe/Amsterdam
BEGIN:DAYLIGHT
TZOFFSETFROM:+0100
TZOFFSETTO:+0200
TZNAME:CEST
DTSTART:20250330T010000
END:DAYLIGHT
BEGIN:STANDARD
TZOFFSETFROM:+0200
TZOFFSETTO:+0100
TZNAME:CET
DTSTART:20251026T010000
END:STANDARD
END:VTIMEZONE
BEGIN:VEVENT
DTSTART;TZID=Europe/Amsterdam:20250719T100000
DTEND;TZID=Europe/Amsterdam:20250914T170000
DTSTAMP:20260419T193247
CREATED:20250428T143639Z
LAST-MODIFIED:20250428T143639Z
UID:8618-1752919200-1757869200@www.soundandsilence.be
SUMMARY:Terug naar je authentieke zijn - Weekend zelfontdekking (Copy)
DESCRIPTION:Weekend zelfontdekking – Authentiek Zijn\nWie ben ik\, wat voel ik\, en wat wil ik écht?\nVragen die ons soms zacht fluisterend\, soms luid roepend overvallen. \nIn een wereld vol prikkels en verwachtingen verliezen we gemakkelijk het contact met onszelf. Ons lichaam weet de antwoorden. Onze adem weet het. Onze stem draagt ze. Maar luisteren we nog? \nHoe kunnen we écht authentiek zijn?\nTijdens dit weekend zelfontdekking nodigen we je uit om stil te staan — niet door te denken\, maar door te voelen.We creëren een veilige bedding waarin je opnieuw verbinding maakt met je lichaam\, adem en stem. \nWat raakt je? Waar bots je op? Welke signalen geeft je lichaam?Je hoeft niets op te lossen. Enkel aanwezig zijn\, toelaten en onderzoeken wat er in jou leeft. \n\nWie durft te doorvoelen\, opent zich. Wie opent\, groeit. \n\nWe werken niet vanuit inzichten in het hoofd\, maar vanuit de wijsheid van je lichaam. Door lichaamsgerichte oefeningen\, ademwerk\, stemwerk en mentale verstilling maak je ruimte voor helderheid\, authenticiteit en persoonlijke groei. \nWat brengt dit weekend je?\n\nHerontdekken van je natuurlijke expressie\nBewust voelen en aangeven van grenzen\nVersterken van je innerlijke stroom en zelfvertrouwen\nOntwikkelen van visie\, daadkracht en persoonlijke helderheid\n\nZelfonderzoek en persoonlijke groei gaan hand in hand. Dit weekend dagen we je constructief uit om eerlijk\, creatief en liefdevol met jezelf om te gaan.Verandering zit meestal in de kleine dingen en hetgeen ons hierin tegenhoudt lijkt vaak groter dan het is. \nEchte transformatie begint van binnenuit. Via adem- en stemwerk\, lichaamsgerichte oefeningen en diepe zelfverbinding versterk jij jouw binnenwereld. \nSchenk jezelf een weekend van zelfontdekking om de spark die binnenin je zit te voelen\, te voeden en terug naar buiten brengen. \nEen weekend waarin je thuiskomt in jezelf met zachtheid\, helderheid en richting. Zodat je weer voelt wie jij diep vanbinnen bent en dat ook echt kan léven. \nGeert en Kristien begeleiden je op deze tweedaagse reis naar authentiek zijn\, zelfontdekking en echte persoonlijke groei. \n \nPraktische info\nData:19 & 20 juli telkens van 10u tot 17u. \nVolgende gelegenheid: 8 & 9 november \nLocatie:Sound & Silence – Hulsbeekstraat 120 – 3450 Geetbets \nInschrijving:Deelname is bevestigd na inschrijving via e-mail naar geert@soundandsilence.be.Vermeld je naam en de datum van de workshop. We werken bewust met kleine groepen\, dus wees er snel bij! \nBijdrage:€350 per persoon (inclusief btw)Voordeeltarieven:– €295 bij vroegboeking (min. 30 dagen vooraf)– €295 voor studenten (op vertoon studentenkaart)– €295 bij inschrijving met twee of meer personen– €295 voor deelnemers aan een jaartraject van Geert of Kristien \nWat mee te nemen:Wij voorzien ’s middags een heerlijke kom soep. Breng gerust iets extra mee als je meer wil eten.Water\, thee en een kleine knabbel zijn steeds beschikbaar.Meditatiekussens\, dekens en matrassen zijn aanwezig. Draag comfortabele kledij waarin je vrij kan bewegen. \nOvernachting nodig?– Hoeve Hulsbeek (tot 4 personen) – vlak naast de deur– Bed en Bets (tot 7 personen) – op wandelafstand\n– B&B De Zevenslaper in Geetbets\n– Diverse opties via airbnb– Eigen tent in de tuin is ook mogelijk (graag vooraf even melden) \n\nLaat het weekend een uitnodiging zijn.Niet om te ‘fixen’ wat niet werkt\, maar om thuis te komen bij wat al in jou leeft.Welkom. \n 
URL:https://www.soundandsilence.be/en/event/terug-naar-je-authentieke-zijn-weekend-copy/
LOCATION:Sound & Silence Geetbets\, Hulsbeekstraat 120\, Geetbets\, Vlaams brabant\, 3450\, Belgium
CATEGORIES:Honour the Sacred
ATTACH;FMTTYPE=image/jpeg:https://www.soundandsilence.be/wp-content/uploads/2025/02/Authentic-2.jpg
ORGANIZER;CN="Kristien Gounakis":MAILTO:kristien.gounakis@outlook.com
END:VEVENT
BEGIN:VEVENT
DTSTART;TZID=Europe/Amsterdam:20250903T133000
DTEND;TZID=Europe/Amsterdam:20250903T163000
DTSTAMP:20260419T193247
CREATED:20221108T204404Z
LAST-MODIFIED:20250820T110340Z
UID:7384-1756906200-1756917000@www.soundandsilence.be
SUMMARY:Klankschalen workshop
DESCRIPTION:Zen met één slag – Klankschalen brengen je in het Nu \n\n\n\n\n\n\nErvaar de kracht van klankschalen om volledig in het moment te zijn. Klankschalen helpen je om je zintuigen te openen en je lichaam in een staat van aandacht te brengen. Klankschalen zijn een snelle en effectieve manier om je af te stemmen op je innerlijke wereld. \n\n\n\n\n\n\nWat je leert in deze workshop \nDeze workshop biedt je de kans om niet alleen te leren spelen met klankschalen\, maar ook te ontdekken hoe je ze kunt gebruiken voor je eigen welzijn. Klankschalen werken direct in op je gevoel\, vertragen je gedachten en brengen je aandacht naar binnen. Hierdoor kom je in verbinding met de diepe harmonie die het lichaam\, de geest en emoties kunnen bereiken. \nWe behandelen verschillende aanspeeltechnieken\, het gebruik van verschillende kloppers en soorten klankschalen\, en het effect van aanslaan versus laten zingen. De focus ligt op de praktische toepassing van de klankschaal en de toegevoegde waarde voor jezelf op het gebied van energetisch welzijn\, bewustwording en persoonlijke groei. \nBij Sound & Silence kan je terecht voor de aankopen van klankschalen alsook voor workshop voor het gebruik van klankschalen\nVerdiep je verder \nWil je de werking van klankschalen verder onderzoeken\, bijvoorbeeld voor therapeutische doeleinden? Overweeg dan de 2-daagse klankschalenopleiding voor een verdiepte ervaring. \nWe kijken ernaar uit je te verwelkomen! \n  \nPraktische Info – Klankschalen Workshop \nInschrijving: \n\nDeelname is bevestigd na inschrijving via e-mail naar geert@soundandsilence.be. Vermeld hierbij de naam en datum van de workshop\nHet vindt plaats in Geetbets\, Hulsbeekstraat 120.\nWe werken bewust met kleine groepen\, dus wees er snel bij!\n\nWat mee te nemen: \n\nWe voorzien water\, thee\, kleine versnaperingen\, klankschalen\nHeb je zelf klankschalen\, neem deze gerust mee.\n\nBijdrage: \n\nGlijdende prijs: €55 – €77. We willen deze workshop voor iedereen toegankelijk maken\, dus draag bij wat het voor jou waard is of wat op dit moment haalbaar is. De betaling van het gekozen bedrag kan op IBAN: BE68 3770 2497 7234 of ter plaatse op de dag van de activiteit.\n\nKlankschalen: \n\nJe kan tijdens de workshop gebruik maken van een groot assortiment klankschalen.\nKlankschalen zijn ook te koop in Geetbets.\n\nJe kunt ze aanschaffen op de dag van de workshop of op 1-op-1 basis via een persoonlijke afspraak.\nDe winkel is geopend op dinsdag\, donderdag en om de week op zondag. (enkel op afspraak)\n\n\n\nBij Sound & Silence kan je terecht voor de aankopen van klankschalen alsook voor workshop voor het gebruik van klankschalen
URL:https://www.soundandsilence.be/en/event/klankschalen-workshop/
LOCATION:Sound & Silence Geetbets\, Hulsbeekstraat 120\, Geetbets\, Vlaams brabant\, 3450\, Belgium
CATEGORIES:Sound Healing
ATTACH;FMTTYPE=image/jpeg:https://www.soundandsilence.be/wp-content/uploads/2022/11/klankschalen-2-2.jpg
ORGANIZER;CN="Geert Kumpen":MAILTO:geert@soundandsilence.be
END:VEVENT
BEGIN:VEVENT
DTSTART;TZID=Europe/Amsterdam:20250903T193000
DTEND;TZID=Europe/Amsterdam:20250903T220000
DTSTAMP:20260419T193247
CREATED:20250521T140348Z
LAST-MODIFIED:20250820T103537Z
UID:8625-1756927800-1756936800@www.soundandsilence.be
SUMMARY:Adem en Stem Bevrijding
DESCRIPTION:Je eigen adem en stem terug durven gebruiken\, is openen voor je eigen levensenergie\n\nWe bieden een prachtige sessie aan om levensenergie te laten stromen. Dit via de combinatie van zacht/actief ademwerk en stembevrijding. We werken met een niet agressieve vorm om de kracht te voelen die vanbinnen zit. \nDeze vorm van ademwerk is een reis\, begeleid door klanken en meditatie\, om je voeling te vergroten. Hierbij geven we ruimte aan expressie en aan uiting geven via de stem. \nIn je adem en stem zit de kracht om de ruimte in en rondom jou te vullen met energie. Dit is direct verbonden met hoe je in je vel zit\, alsook hoe je richting kan geven aan je leven/omgeving. \nHierin ligt zowel een zekere kwetsbaarheid als een grote kracht. Deze avond creëren we een veilige setting om van kwetsbaarheid naar kracht te gaan. We verkennen onze innerlijke leefwereld en geven van daaruit meer veerkracht aan onze stem en de mogelijkheid tot expressie. \n  \nPraktische informatie\nWat dien je te voorzien? \nWij voorzien voor jou een comfortabel matje en een dekentje\, een meditatie kussen\, water\, thee en een kleine versnapering. \nJe kan zelf nog een kussen meenemen om onder je hoofd te leggen.\nLosse kleding is aangeraden. \nTijd: 19u30 (deuren open om 19u15) tot 22uLocatie: Hulsbeekstraat 120\, Geetbets \nBijdrage: 55-77 euro. Hoe werkt een glijdende prijs? We maken dit event graag voor iedereen mogelijk. Je kan dus bijdragen wat het voor jou waard is of wat er op dit moment mogelijk is. De betaling van het gekozen bedrag kan op IBAN: BE68 3770 2497 7234 of ter plaatse op de dag van de activiteit. \nInschrijven: via mail naar geert@soundandsilence.be \nPlaatsen zijn beperkt. Let op\, bij inschrijving via mail rekenen we op jouw aanwezigheid\, respecteer deze plaats en laat 24u op voorhand weten moest er een probleem zijn.
URL:https://www.soundandsilence.be/en/event/ademenstembevrijding/
LOCATION:Sound & Silence Geetbets\, Hulsbeekstraat 120\, Geetbets\, Vlaams brabant\, 3450\, Belgium
ATTACH;FMTTYPE=image/jpeg:https://www.soundandsilence.be/wp-content/uploads/2025/05/concert-watt17-11-small.jpg
ORGANIZER;CN="Geert Kumpen":MAILTO:geert@soundandsilence.be
END:VEVENT
END:VCALENDAR