BEGIN:VCALENDAR
VERSION:2.0
PRODID:-//Sound &amp; Silence - ECPv6.15.5//NONSGML v1.0//EN
CALSCALE:GREGORIAN
METHOD:PUBLISH
X-WR-CALNAME:Sound &amp; Silence
X-ORIGINAL-URL:https://www.soundandsilence.be/en
X-WR-CALDESC:Events for Sound &amp; Silence
REFRESH-INTERVAL;VALUE=DURATION:PT1H
X-Robots-Tag:noindex
X-PUBLISHED-TTL:PT1H
BEGIN:VTIMEZONE
TZID:Europe/Amsterdam
BEGIN:DAYLIGHT
TZOFFSETFROM:+0100
TZOFFSETTO:+0200
TZNAME:CEST
DTSTART:20250330T010000
END:DAYLIGHT
BEGIN:STANDARD
TZOFFSETFROM:+0200
TZOFFSETTO:+0100
TZNAME:CET
DTSTART:20251026T010000
END:STANDARD
END:VTIMEZONE
BEGIN:VEVENT
DTSTART;TZID=Europe/Amsterdam:20250426T100000
DTEND;TZID=Europe/Amsterdam:20250426T200000
DTSTAMP:20260420T035259
CREATED:20250129T095351Z
LAST-MODIFIED:20250405T141609Z
UID:8383-1745661600-1745697600@www.soundandsilence.be
SUMMARY:The Alchemy of Conscious Leadership
DESCRIPTION:Stap in je Kracht – The Alchemy of Conscious Leadership\nEen reis naar bewust leiderschap en innerlijke transformatie\nA journey to your true power begins where the courage to feel is greater than the fear of failure. \nWelkom bij Sons of Element – een krachtige uitnodiging voor de man die niet langer wacht op verandering\, maar deze zelf creëert. Dit is geen standaard pad; dit is de roep om te ontwaken. Een oproep om deel uit te maken van een broederschap die je niet alleen uitdaagt\, maar je ook verantwoordelijk houdt voor je eigen groei. Dit programma is voor de man die zijn kracht wil ontdekken door verbinding\, actie en authentiek leiderschap. \nLaatste infomoment:\n9 april om 20u\nMeld je hiervoor aan via een persoonlijk bericht of mail. \nWat kun je verwachten? \nIn vijf diepgaande cirkels word je uitgedaagd om de confrontatie aan te gaan met jezelf – je angsten\, je schaduwen\, je onzekerheden\, maar ook je krachten en kwaliteiten. Samen stappen we in de arena van het leven\, niet om te blijven waar we zijn\, maar om te groeien en te transformeren. \nHier leer je dat ware kracht niet ligt in controle\, maar in overgave aan het proces van zelfontdekking\, kwetsbaarheid en wederzijds respect. Je maakt deel uit van een gemeenschap van broeders die samen een nieuwe manier van man-zijn ontdekken. \n \nDe cirkels – Jouw Transformatie \nJe zult diep in jezelf duiken en leren om leiding te nemen vanuit je meest authentieke kern – zonder maskers\, zonder concessies. \n\nKwetsbaarheid als kracht – Waar we angst en onzekerheid voelen is er een voedingsbodem voor het vinden van je pure kracht.\nTransformatie door actie – Fysieke\, emotionele en spirituele uitdagingen helpen je angsten te overwinnen en een transformatie te ondergaan die verder gaat dan wat je ooit voor mogelijk hield.\nVan weerstand naar groei – Ga uit je comfortzone. Weerstand zet de deur open naar authentieke groei.\nBroederschap – Ontdek de kracht van samen groeien. Je wordt ondersteund\, uitgedaagd en geïnspireerd door een gemeenschap die je helpt je volledige potentieel te leven.\n\nDeze reis is voor de man die niet tevreden is met de status quo. Het is voor de man die bereid is om te veranderen\, te groeien en alles in te zetten voor zijn eigen evolutie én die van zijn broeders. \n\nWerkmethodes – Het Pad naar Transformatie\nIn het programma maken we gebruik van krachtige methodes en thema’s die je helpen om dieper in jezelf te duiken\, blokkades te doorbreken en je authentieke kracht te ontdekken. Elk van deze tools is ontworpen om je angsten en onzekerheden te confronteren\, maar ook om ruimte te creëren voor innerlijke transformatie. De methodes die we toepassen omvatten: \n\nAnger & Fear: Het erkennen en transformeren van woede en angst als katalysatoren voor groei.\nConfrontatie en Emotionele Transformatie: Door in confrontatie te gaan met je emoties\, leer je ze niet te onderdrukken\, maar te reguleren.\nSexuality & Ego: Het onderzoeken van de relatie tussen seksualiteit\, ego\, kwetsbaarheid en innerlijke kracht.\nVision Quest: De spirituele kracht van de natuur leidt je naar diepe innerlijke stilte en wijsheid.\nVuurloop: Vuur is een krachtige mentor om te komen tot de essentie van je pad. Waarvoor ga jij door het vuur?\nAdemwerk: Het gebruik van bewuste ademhaling om emotionele blokkades los te laten en je energie te hernieuwen.\nInner Fire Dance: Een rituele dans om de innerlijke kracht en levensenergie aan te wakkeren.\nSoundhealing & Inner Vision Journey: Geluid en stilte als middelen om diepe heling en zelfinzicht te verkrijgen.\n\nDoor deze methoden te integreren\, zul je niet alleen je angsten overwinnen\, maar ook je ware potentieel ontgrendelen. Je zult merken dat je niet alleen als individu groeit\, maar ook als lid van een broederschap die elkaar ondersteunt en uitdaagt op de weg naar authentiek leiderschap. \n \nBen jij klaar om je ware kracht te ontdekken? \nAls je de moed hebt om te voelen\, je angsten onder ogen te zien en uit je comfortzone te stappen\, dan is deze reis voor jou. \n🔥 2025: Jouw Jaar van Transformatie 🔥 \nGa jij mee op de reis van The Alchemy of Conscious Leadership? Dit is een unieke kans om in verbinding te komen met je innerlijke kracht\, kwetsbaarheid en leiderschap in een veilige mannencommunity. \n📅 Data & Thema’s van de Cirkel: \n\n26 April – Vuur: Embracing the Inner Warrior\n10 mei – Water: Awakening Sacred Power\n21-22 Juni – Lucht: The Call of the Wild (Vision Quest)\n30 Augustus – Aarde: Divine Masculinity & The Step to Realization\n12-13-14 september – Ether: The Sacred Return\n\n🌍 Locaties: Bergen op Zoom (NL)\, Geetbets (BE) & Ardennen (BE)\n💪 Voor wie: Mannen die leiding willen nemen over hun leven. \n🔗 Reserveer je plek via het formulier! \nLaatste infomoment:\n9 april om 20u\nMeld je hiervoor gratis aan via een persoonlijk bericht of mail. \nJouw Startpunt – Het Intakegesprek \nZet de eerste stap naar je transformatie en meld je aan voor een intakegesprek. In dit gesprek leer je meer over de cirkels\, kun je je intenties delen en ontdek je of deze reis bij jou past. Dit gesprek is vrijblijvend\, maar het kan de start zijn van een krachtig\, authentiek leven. \nDeelnamebijdrage: €1.500\,- (incl. btw) voor alle cirkels en het afsluitingsweekend. \nBetalingsopties: \n\nContant bij de eerste cirkel.\nBankoverschrijving (details na inschrijving).\nCrypto betaling (details na inschrijving).\nBetalen in 3 termijnen (volledige betaling voor de derde cirkel).\n\nBegeleiding: \nJe geniet van professionele begeleiding door drie unieke mannen\, die elke uitblinken in hun vakgebied. Ze staan gekend om hun krachtige spaceholding en diepgaande begeleiding\, die voorkomt uit hun eigen levenservaringen. \n  \nOver Bart Vankralingen – Jouw Gids in Bewust Leiderschap \n \nMijn naam is Bart Van Kralingen. Mijn leven is gewijd aan het begeleiden van mannen naar bewust leiderschap en innerlijke kracht. Dit werk is ontstaan uit mijn eigen transformaties en diepgaande inzichten. Door mannencirkels te faciliteren\, ontdekte ik de kracht van verbinding en kwetsbaarheid. Ik geloof dat echte kracht voortkomt uit het omarmen van wie we werkelijk zijn en het aangaan van onze diepste angsten. \nMijn aanpak is direct en praktisch\, zonder opsmuk. Ik combineer spirituele kennis met de uitdagingen van het moderne leven en gebruik rituelen\, reflectie en diepgaande gesprekken om inzichten niet alleen te verkrijgen\, maar ook te integreren in ons dagelijks handelen. Het is mijn missie om mannen te helpen in hun transformatie\, zodat zij met integriteit en moed hun volledige potentieel kunnen leven. \nMedefacilitators: \nOver Geert Kumpen – Jouw Gids in Helende Klanken \n \nMijn naam is Geert Kumpen. Mijn reis begon met de ontdekking van de helende kracht van muziek. Muziek verbonden met het voelen bracht me dichter bij de authentieke klanken die we vaak terugvinden in de natuur en bij oude volkeren. Door klank vanuit gevoel te laten ontstaan\, ontdekte ik de diepe verbinding tussen muziek\, emotie en de verschillende lagen van ons innerlijke zelf. \nMijn zoektocht naar de energetische kracht van geluid bracht me naar sjamanisme en de helende waarde van de stem. In 2011 richtte ik Sound & Silence op\, een centrum voor soundhealing\, ademtherapie\, intuïtief musiceren en ceremoniën. Mijn missie is om anderen te begeleiden in het versterken van de eenheid tussen lichaam\, geest en ziel\, zodat zij authentiek\, open en weerbaar in het leven staan. \nOver Koen Windhorst  – Jouw Gids in Holistische Genezing\nMijn naam is Koen. Als fysiotherapeut met een holistische benadering begeleid ik mensen naar een gebalanceerde levensstijl\, waarbij ik lichaam\, geest\, emoties en spiritualiteit als één geheel beschouw. Mijn eigen ervaringen – waaronder mijn strijd tegen kanker en een bloedvergiftiging – leerden me hoe belangrijk het is om alle lagen van ons wezen in de heling te betrekken. \nMijn aanpak is pragmatisch en diepgaand. Ik werk niet alleen met fysieke klachten\, maar richt me ook op de onderliggende energetische en emotionele blokkades. Via technieken zoals Trauma Release Breathwork en Myofascial Energetic Release help ik mensen om vastgezette emoties en spanningen los te laten. Mijn missie is om mensen in contact te brengen met hun diepste zelf\, zodat zij in balans leven en hun volledige kracht kunnen ervaren. \n  \nBen jij klaar om jezelf opnieuw te ontdekken en je kracht te omarmen? Meld je aan voor een intakegesprek en zet de eerste stap op jouw pad van transformatie. \n 
URL:https://www.soundandsilence.be/en/event/the-alchemy-of-conscious-leadership/
LOCATION:Bergen op Zoom\, Netherlands
ATTACH;FMTTYPE=image/jpeg:https://www.soundandsilence.be/wp-content/uploads/2025/01/WhatsApp-Image-2025-01-29-at-10.53.58.jpeg
ORGANIZER;CN="Bart Van Kralingen":MAILTO:consciousalchemytribe@gmail.com
END:VEVENT
END:VCALENDAR