BEGIN:VCALENDAR
VERSION:2.0
PRODID:-//Sound &amp; Silence - ECPv6.15.5//NONSGML v1.0//EN
CALSCALE:GREGORIAN
METHOD:PUBLISH
X-ORIGINAL-URL:https://www.soundandsilence.be/en
X-WR-CALDESC:Events for Sound &amp; Silence
REFRESH-INTERVAL;VALUE=DURATION:PT1H
X-Robots-Tag:noindex
X-PUBLISHED-TTL:PT1H
BEGIN:VTIMEZONE
TZID:Europe/Amsterdam
BEGIN:DAYLIGHT
TZOFFSETFROM:+0100
TZOFFSETTO:+0200
TZNAME:CEST
DTSTART:20250330T010000
END:DAYLIGHT
BEGIN:STANDARD
TZOFFSETFROM:+0200
TZOFFSETTO:+0100
TZNAME:CET
DTSTART:20251026T010000
END:STANDARD
END:VTIMEZONE
BEGIN:VEVENT
DTSTART;TZID=Europe/Amsterdam:20250105T100000
DTEND;TZID=Europe/Amsterdam:20250105T120000
DTSTAMP:20260420T084926
CREATED:20241226T155255Z
LAST-MODIFIED:20241226T155255Z
UID:8222-1736071200-1736078400@www.soundandsilence.be
SUMMARY:Yoga en meditatie met Live muziek.
DESCRIPTION:Soms heb je niet meer nodig dan wat tijd voor jezelf. \nTijdens deze voormiddag gaan we met zachte en toegankelijke bewegingen in meditatie\, om het nieuwe jaar te starten met tijd voor jezelf\, zachtheid voor je lichaam en helderheid in je hoofd. \nKristien neemt je mee in een meditatie met zachte yoga\, onder begeleiding van de klanken van Geert. \nDeze voormiddag is toegankelijk voor iedereen\,  hier is geen ervaring voor nodig. \nLocatie: \nSound & Silence\, Hulsbeekstraat 120\, 3450 Geetbets \nDe workshop is van 10u00 tot 12u. \nHet wordt begeleid door Kristien Gounakis en Geert Kumpen. \nGlijdende prijs vanaf 20 euro. Hoe werkt een glijdende prijs? We maken dit event graag voor iedereen mogelijk. Je kan dus bijdragen wat het voor jou waard is of wat er op dit moment mogelijk is. \nInschrijving gebeurt via mail naar geert@soundandsilence.be\nDe betaling van het gekozen bedrag kan op IBAN: BE68 3770 2497 7234 of ter plaatse op de dag van de workshop. \nPlaatsen zijn beperkt. Let op\, bij inschrijving via mail rekenen we op jouw aanwezigheid\, respecteer deze plaats en laat 24u op voorhand weten moest er een probleem zijn.
URL:https://www.soundandsilence.be/en/event/yoga-en-meditatie-met-live-muziek/
LOCATION:Sound & Silence Geetbets\, Hulsbeekstraat 120\, Geetbets\, Vlaams brabant\, 3450\, Belgium
CATEGORIES:Honour the Sacred
ATTACH;FMTTYPE=image/jpeg:https://www.soundandsilence.be/wp-content/uploads/2024/12/PHOTO-2024-12-26-15-45-07.jpg
ORGANIZER;CN="Kristien Gounakis":MAILTO:kristien.gounakis@outlook.com
END:VEVENT
BEGIN:VEVENT
DTSTART;TZID=Europe/Amsterdam:20250105T133000
DTEND;TZID=Europe/Amsterdam:20250105T163000
DTSTAMP:20260420T084926
CREATED:20241226T151747Z
LAST-MODIFIED:20241230T095243Z
UID:8226-1736083800-1736094600@www.soundandsilence.be
SUMMARY:Klinken met instrumenten
DESCRIPTION:Klinken is een vorm van zingen waarbij je niet hoeft na te denken\, waar je de klanken kan laten komen zoals ze komen. \nBeangstigend of bevrijdend? \nVaak komen we wel wat tegen als we onze ‘zang’stem willen gebruiken.\nDeze dag bewegen we voorbij het oordeel en de stemmetjes in ons hoofd\, naar het genieten van je stem te gebruiken. \nEr zijn enkele instrumenten die hier enorm ondersteunend in zijn. Deze geven een bedding en nodigen uit om je stem te gebruiken. Instrumenten die iets voelbaar maken\, die innerlijk iets doen bruisen. Vanuit deze verbinding klank laten komen is verrassend en deugdzaam. \nHeel welkom om mee op ontdekking te gaan wat de combinatie van stem en deze instrumenten mag wakker maken en wat er naar buiten mag komen deze dag. \nMogelijke instrumenten waar we gebruik van maken zijn:\n– shrutibox\n– shaman drum\n– shakers\n– tanpura\n– piano\n– handpan\n– … \nSpeel je zelf een instrument kan je dit ook meenemen deze dag. \nLocatie: \nSound & Silence\, Hulsbeekstraat 120\, 3450 Geetbets \nDe workshop is van 13u30 tot 16u30. \nHet wordt begeleid door Geert Kumpen en Kristien Gounakis. \nBijdrage \nGlijdende prijs 55-75 euro. Hoe werkt een glijdende prijs? We maken dit event graag voor iedereen mogelijk. Je kan dus bijdragen wat het voor jou waard is of wat er op dit moment mogelijk is. \nPlaatsen zijn beperkt. Let op\, bij inschrijving via mail rekenen we op jouw aanwezigheid\, respecteer deze plaats en laat 24u op voorhand weten moest er een probleem zijn. \n 
URL:https://www.soundandsilence.be/en/event/klinken-met-instrumenten/
LOCATION:Sound & Silence Geetbets\, Hulsbeekstraat 120\, Geetbets\, Vlaams brabant\, 3450\, Belgium
ATTACH;FMTTYPE=image/jpeg:https://www.soundandsilence.be/wp-content/uploads/2024/12/samana-kracht-van-klank2.jpg
ORGANIZER;CN="Geert Kumpen":MAILTO:geert@soundandsilence.be
END:VEVENT
END:VCALENDAR