BEGIN:VCALENDAR
VERSION:2.0
PRODID:-//Sound &amp; Silence - ECPv6.15.5//NONSGML v1.0//EN
CALSCALE:GREGORIAN
METHOD:PUBLISH
X-WR-CALNAME:Sound &amp; Silence
X-ORIGINAL-URL:https://www.soundandsilence.be/en
X-WR-CALDESC:Events for Sound &amp; Silence
REFRESH-INTERVAL;VALUE=DURATION:PT1H
X-Robots-Tag:noindex
X-PUBLISHED-TTL:PT1H
BEGIN:VTIMEZONE
TZID:Europe/Amsterdam
BEGIN:DAYLIGHT
TZOFFSETFROM:+0100
TZOFFSETTO:+0200
TZNAME:CEST
DTSTART:20240331T010000
END:DAYLIGHT
BEGIN:STANDARD
TZOFFSETFROM:+0200
TZOFFSETTO:+0100
TZNAME:CET
DTSTART:20241027T010000
END:STANDARD
END:VTIMEZONE
BEGIN:VEVENT
DTSTART;TZID=Europe/Amsterdam:20240608T143000
DTEND;TZID=Europe/Amsterdam:20240608T163000
DTSTAMP:20260420T201710
CREATED:20240428T144242Z
LAST-MODIFIED:20240428T144242Z
UID:7892-1717857000-1717864200@www.soundandsilence.be
SUMMARY:Zingen met de shrutibox
DESCRIPTION:Tijdens ‘Zingen met de shrutibox’ leer je op een heel toegankelijke manier je stem gebruiken. De Shrutibox is een Indisch instrument. In de Indiase zang wordt er op een heel ontspannen open manier de stem gebruikt. De shrutibox geeft hierbij een zeer volle en uitnodigende klank om te gaan ‘meeklinken’. Voor dat je het weet geniet je van de zalige trilling die het zingen teweeg brengt\, zonder dat er iets moet. \nTijdens deze workshop leren we hoe je de shruti kan gebruiken. We leren welke toonhoogte het beste bij jou past. Hoe we gemakkelijker de aanzet kunnen vinden om klank te maken en welke mooie combinaties we kunnen maken met dit instrument. \nEr zijn instrumenten beschikbaar om te gebruiken alsook kan je een shrutibox aankopen. \nDe workshop gaat door op 8 juni van 14u30 tot 16u30\nMet een bijdrage van 55 euro. \nStuur een mail als je erbij wil zijn.
URL:https://www.soundandsilence.be/en/event/zingen-met-de-shrutibox/
LOCATION:Sound & Silence Geetbets\, Hulsbeekstraat 120\, Geetbets\, Vlaams brabant\, 3450\, Belgium
ATTACH;FMTTYPE=image/jpeg:https://www.soundandsilence.be/wp-content/uploads/2024/04/shruti.jpg
ORGANIZER;CN="Geert Kumpen":MAILTO:geert@soundandsilence.be
END:VEVENT
BEGIN:VEVENT
DTSTART;TZID=Europe/Amsterdam:20240608T193000
DTEND;TZID=Europe/Amsterdam:20240608T220000
DTSTAMP:20260420T201710
CREATED:20221228T112938Z
LAST-MODIFIED:20240428T132132Z
UID:7480-1717875000-1717884000@www.soundandsilence.be
SUMMARY:Soundhealing
DESCRIPTION:Tijdens deze beleving brengen pure klanken je in de wereld van het voelen. Een innerlijke reis die nog lang nazindert.\n\n\nEen soundhealing is een reis door de magische wereld van vibratie. Waar klank voelbaar wordt komen we samen in resonantie. Ik vergelijk het wel eens met een menselijke carwash of groot onderhoud. De energie die we in ons dragen in stroming brengen en diepe vrede uitnodigen.\n\nSoundhealing is een methode om de jezelf meer in resonantie te brengen. Het leven zorgt dat we vaak bedrukt of versluierd zijn. Door naar binnen te keren of in rust te gaan gaat je zelfregulerend vermogen aangewakkerd worden. Soundhealing helpt om zeer snel in een diepe meditatieve staat te komen waarin deze zelfheling kan plaats vinden.\n\nJe gaat mee trillen met de harmonische klanken waardoor diep gelegen spanningen kunnen vrij trillen. Hierdoor komt er meer ruimte voor: de opening van het hart\, het activeren van doorstroming in en rond het lichaam/chakra’s\, de verbinding met de aarde\, de kosmos en je eigen kern.\n\n\nEen Soundhealing journey is geen willekeurig samenraapsel van klanken maar herkent zich in een opbouwende spanningsboog. Hierbij wordt eerst gericht op het aankomen op de plek\, in jezelf\, in je lijf. Spanningen van de afgelopen tijd laten zakken. Als er ruimte is gecreëerd gaan we dieper richting het gebied van het hart. Van hieruit ontstaat een krachtige verbinding met aarde en kosmos. Om dan met aardende klanken helemaal terug te komen. We genieten na van de zinderende energie met een lekkere tas thee.\n\n\nWil je graag deel uitmaken van deze unieke soundhealing?\nJe kan je inschrijven door te mailen naar geert@soundandsilence.be\nWat wordt er voorzien? Een klankreis van bijna 2u\, een comfortabel matje\, een meditatie kussen en thee.\nJe kan zelf nog wat meenemen om het aangenaam te maken zoals een kussen\, dekentje…\nWe starten tegen 19u30\, aankomen kan vanaf 19u15. \nBijdrage voor de avond is 35 euro. Ter plaatse te betalen.\nPlaatsen zijn beperkt. Let op\, bij inschrijving via mail rekenen we op jouw aanwezigheid\, respecteer deze plaats en laat 24u op voorhand weten moest er een probleem zijn.
URL:https://www.soundandsilence.be/en/event/soundhealing-klankconcert-2/
LOCATION:Sound & Silence Geetbets\, Hulsbeekstraat 120\, Geetbets\, Vlaams brabant\, 3450\, Belgium
ATTACH;FMTTYPE=image/jpeg:https://www.soundandsilence.be/wp-content/uploads/2022/06/285677937_5364758060211349_5127849791904985638_n-1.jpg
ORGANIZER;CN="Geert Kumpen":MAILTO:geert@soundandsilence.be
END:VEVENT
END:VCALENDAR