BEGIN:VCALENDAR
VERSION:2.0
PRODID:-//Sound &amp; Silence - ECPv6.15.5//NONSGML v1.0//EN
CALSCALE:GREGORIAN
METHOD:PUBLISH
X-WR-CALNAME:Sound &amp; Silence
X-ORIGINAL-URL:https://www.soundandsilence.be/en
X-WR-CALDESC:Events for Sound &amp; Silence
REFRESH-INTERVAL;VALUE=DURATION:PT1H
X-Robots-Tag:noindex
X-PUBLISHED-TTL:PT1H
BEGIN:VTIMEZONE
TZID:Europe/Amsterdam
BEGIN:DAYLIGHT
TZOFFSETFROM:+0100
TZOFFSETTO:+0200
TZNAME:CEST
DTSTART:20230326T010000
END:DAYLIGHT
BEGIN:STANDARD
TZOFFSETFROM:+0200
TZOFFSETTO:+0100
TZNAME:CET
DTSTART:20231029T010000
END:STANDARD
END:VTIMEZONE
BEGIN:VEVENT
DTSTART;TZID=Europe/Amsterdam:20230318T100000
DTEND;TZID=Europe/Amsterdam:20230319T170000
DTSTAMP:20260422T024322
CREATED:20221120T224857Z
LAST-MODIFIED:20221120T232550Z
UID:7472-1679133600-1679245200@www.soundandsilence.be
SUMMARY:Boventoonzang weekendworkshop
DESCRIPTION:Boventonen vormen de bouwstenen van klank\, maar zijn ook veel meer dan dat. \nDe verhoudingen tussen boventonen en de grondtoon gedragen zich als de verhoudingen in de geometrische opbouw van bomen\, bloemen\, schelpen\,…\nZe helpen om te verbinden met de harmonische vibratie die creatie in zich draagt. Door heel ons lijf in trilling te brengen met deze boventonen beïnvloeden we ons lichaam op zeer diverse manieren. Je brengt harmonie in heel jouw systeem op een opladende en vreugdevolle manier. \nIn deze weekend workshop werken we heel ervaringsgericht naar het zingen van verschillende boventoon technieken (voornamelijk klinker en bird techniek. We besteden ook veel tijd aan het bieden van een goede ondersteuning van de stem. Na dit weekend heb je een hele rugzak vol deugdzame hulpmiddelen om boventonen te zingen en deze vol te ondersteunen met je lichaamskracht. Als je de kriebel te pakken krijgt\, neem je dit de rest van je leven mee. \nDe workshop is voor alle niveau’s. Ze gaat door op 18 en 19 maart\, telkens van 10 tot 17u. Dit in de zaal van Sound & Silence\, Hulsbeekstraat 120\, Geetbets. ’s Middags wordt er een soep voorzien. Je kan zelf nog iets extra’s meenemen indien gewenst. Bijdrage voor de workshop is 235 euro. Inschrijving kan via mail en met betaling van een voorschot van 100 euro. (instructies komen via mail)
URL:https://www.soundandsilence.be/en/event/boventoonzang-weekendworkshop/
LOCATION:Sound & Silence Geetbets\, Hulsbeekstraat 120\, Geetbets\, Vlaams brabant\, 3450\, Belgium
ATTACH;FMTTYPE=image/jpeg:https://www.soundandsilence.be/wp-content/uploads/2019/04/Boventonen-banner.jpg
ORGANIZER;CN="Geert Kumpen":MAILTO:geert@soundandsilence.be
END:VEVENT
END:VCALENDAR