BEGIN:VCALENDAR
VERSION:2.0
PRODID:-//Sound &amp; Silence - ECPv6.15.5//NONSGML v1.0//EN
CALSCALE:GREGORIAN
METHOD:PUBLISH
X-WR-CALNAME:Sound &amp; Silence
X-ORIGINAL-URL:https://www.soundandsilence.be/en
X-WR-CALDESC:Events for Sound &amp; Silence
REFRESH-INTERVAL;VALUE=DURATION:PT1H
X-Robots-Tag:noindex
X-PUBLISHED-TTL:PT1H
BEGIN:VTIMEZONE
TZID:Europe/Amsterdam
BEGIN:DAYLIGHT
TZOFFSETFROM:+0100
TZOFFSETTO:+0200
TZNAME:CEST
DTSTART:20230326T010000
END:DAYLIGHT
BEGIN:STANDARD
TZOFFSETFROM:+0200
TZOFFSETTO:+0100
TZNAME:CET
DTSTART:20231029T010000
END:STANDARD
END:VTIMEZONE
BEGIN:VEVENT
DTSTART;TZID=Europe/Amsterdam:20230113T193000
DTEND;TZID=Europe/Amsterdam:20230113T220000
DTSTAMP:20260422T033646
CREATED:20221119T123552Z
LAST-MODIFIED:20221228T113014Z
UID:7466-1673638200-1673647200@www.soundandsilence.be
SUMMARY:Soundhealing klankconcert
DESCRIPTION:Tijdens deze beleving brengen pure klanken je in de wereld van het voelen. Een innerlijke reis die nog lang nazindert.\n\n–VOLZET–\n\n\nEen soundhealing concert is een reis door de magische wereld van vibratie. Waar klank voelbaar wordt komen we samen in resonantie. Ik vergelijk het wel eens met een menselijke carwash of groot onderhoud. De energie die we in ons dragen in stroming brengen en diepe vrede uitnodigen.\n\nSoundhealing is een methode om de jezelf meer in resonantie te brengen. Het leven zorgt dat we vaak bedrukt of versluierd zijn. Door terug naar binnen te keren of in rust te gaan gaat je zelfregulerend vermogen aangewakkerd worden. Soundhealing helpt om zeer snel in een diepe meditatieve staat te komen waarin deze zelfheling kan plaats vinden.\n\nJe gaat mee trillen met de harmonische klanken waardoor diep gelegen spanningen kunnen vrij trillen. Hierdoor komt er meer ruimte voor: de opening van het hart\, het activeren van doorstroming in en rond het lichaam/chakra’s\, de verbinding met de aarde\, de kosmos en je eigen kern.\n\nEen klank “concert” is geen willekeurig samenraapsel van klanken maar herkent zich in een opbouwende spanningsboog. Hierbij wordt eerst gericht op het aankomen op de plek\, in jezelf\, in je lijf. Hierbij trillen we eerst los wat in beweging wenst te komen. Als er ruimte is gecreëerd zakken we dieper richting het gebied van het hart. Van hieruit ontstaat een krachtige verbinding met aarde en kosmos en opent het veld van herinnering zich. Om dan met aardende klanken helemaal terug te komen. We genieten na van de zinderende energie met een lekkere tas thee.\n\n\n\nWil je graag deel uitmaken van dit unieke soundhealing concert?\nJe kan je inschrijven door te mailen naar geert@soundandsilence.be\nWat wordt er voorzien? Een klankreis van bijna 2u\, een comfortabel matje\, een meditatie kussen en thee.\nJe kan zelf nog wat meenemen om het aangenaam te maken zoals een kussen\, dekentje…\nWe starten tegen 19u30\, aankomen kan vanaf 19u15. \nBijdrage voor de avond is 35 euro. Ter plaatse te betalen.\nPlaatsen zijn beperkt. Let op\, bij inschrijving via mail rekenen we op jouw aanwezigheid\, respecteer deze plaats en laat 24u op voorhand weten moest er een probleem zijn.
URL:https://www.soundandsilence.be/en/event/soundhealing-klankconcert/
LOCATION:Sound & Silence Geetbets\, Hulsbeekstraat 120\, Geetbets\, Vlaams brabant\, 3450\, Belgium
ATTACH;FMTTYPE=image/jpeg:https://www.soundandsilence.be/wp-content/uploads/2022/06/285677937_5364758060211349_5127849791904985638_n-1.jpg
ORGANIZER;CN="Geert Kumpen":MAILTO:geert@soundandsilence.be
END:VEVENT
BEGIN:VEVENT
DTSTART;TZID=Europe/Amsterdam:20230127T193000
DTEND;TZID=Europe/Amsterdam:20230127T220000
DTSTAMP:20260422T033646
CREATED:20221119T113840Z
LAST-MODIFIED:20221119T120713Z
UID:7452-1674847800-1674856800@www.soundandsilence.be
SUMMARY:Soundjourney met Tuvaanse keelzanger Imre Peemot
DESCRIPTION:Tijdens deze soundjourney duiken we in de krachtige vibratie van de natuur\, een overvloed aan boventonen en Tuvaanse keelzang. Imre en Geert zullen hier op zoek gaan naar een gedragen verbinding met oude werelden\, natuurklank\, zuivere trilling. Kortom een reis improviserend door het helende veld van klank\, resonantie\, verbonden via het hart. \nHiervoor gaan we op zoek naar unieke combinaties\, een reis over de Tuvaanse vlakten\, volle diepe aarde klanken\, zinderende boven en ondertonen… en voegen we al onze talenten samen in een helende synergie. \nWil je graag deel uitmaken van deze unieke soundjourney?\nJe kan je inschrijven door te mailen naar geert@soundandsilence.be\nWat wordt er voorzien? Een soundjourney van bijna 2u\, een comfortabel matje\, een meditatie kussen en thee.\nJe kan zelf nog wat meenemen om het aangenaam te maken zoals een kussen\, dekentje…\nWe starten tegen 19u30\, aankomen kan vanaf 19u15. \nBijdrage voor de avond is 35 euro. Ter plaatse te betalen.\nPlaatsen zijn beperkt. Let op\, bij inschrijving via mail rekenen we op jouw aanwezigheid\, respecteer deze plaats en laat ten laatste 24u op voorhand weten moest er een probleem zijn. \n  \nIMRE PEEMOT was born in Estonia and has mainly been living in Finland since 1991. He has been traveling to learn vocals and instruments from various “world music” traditions around the world. One of the most important of these has been Tuva. For the past 21 years he has been a practitioner of tuvan throat singing. He has been acclaimed in Tuva and internationally as one of the finest. Based on the tuvan folk tradition\, or its aesthetics\, he has released albums both solo and with group Cedip Tur. He has performed and taught in many countries around Europe and in Tuva. 
URL:https://www.soundandsilence.be/en/event/soundjourney-met-tuvaanse-keelzanger-imre-peemot/
LOCATION:Sound & Silence Geetbets\, Hulsbeekstraat 120\, Geetbets\, Vlaams brabant\, 3450\, Belgium
ATTACH;FMTTYPE=image/jpeg:https://www.soundandsilence.be/wp-content/uploads/2022/10/311346544_777504163341249_2413654649160531613_n.jpg
ORGANIZER;CN="Geert Kumpen":MAILTO:geert@soundandsilence.be
END:VEVENT
END:VCALENDAR