BEGIN:VCALENDAR
VERSION:2.0
PRODID:-//Sound &amp; Silence - ECPv6.15.5//NONSGML v1.0//EN
CALSCALE:GREGORIAN
METHOD:PUBLISH
X-WR-CALNAME:Sound &amp; Silence
X-ORIGINAL-URL:https://www.soundandsilence.be/en
X-WR-CALDESC:Events for Sound &amp; Silence
REFRESH-INTERVAL;VALUE=DURATION:PT1H
X-Robots-Tag:noindex
X-PUBLISHED-TTL:PT1H
BEGIN:VTIMEZONE
TZID:Europe/Amsterdam
BEGIN:DAYLIGHT
TZOFFSETFROM:+0100
TZOFFSETTO:+0200
TZNAME:CEST
DTSTART:20250330T010000
END:DAYLIGHT
BEGIN:STANDARD
TZOFFSETFROM:+0200
TZOFFSETTO:+0100
TZNAME:CET
DTSTART:20251026T010000
END:STANDARD
END:VTIMEZONE
BEGIN:VEVENT
DTSTART;TZID=Europe/Amsterdam:20251001T133000
DTEND;TZID=Europe/Amsterdam:20251001T163000
DTSTAMP:20260420T021408
CREATED:20250827T113639Z
LAST-MODIFIED:20250827T113817Z
UID:8771-1759325400-1759336200@www.soundandsilence.be
SUMMARY:Klankschalen workshop
DESCRIPTION:Zen met één slag – Klankschalen brengen je in het Nu \n\n\n\n\n\n\nErvaar de kracht van klankschalen om volledig in het moment te zijn. Klankschalen helpen je om je zintuigen te openen en je lichaam in een staat van aandacht te brengen. Klankschalen zijn een snelle en effectieve manier om je af te stemmen op je innerlijke wereld. \n\n\n\n\n\n\nWat je leert in deze workshop \nDeze workshop biedt je de kans om niet alleen te leren spelen met klankschalen\, maar ook te ontdekken hoe je ze kunt gebruiken voor je eigen welzijn. Klankschalen werken direct in op je gevoel\, vertragen je gedachten en brengen je aandacht naar binnen. Hierdoor kom je in verbinding met de diepe harmonie die het lichaam\, de geest en emoties kunnen bereiken. \nWe behandelen verschillende aanspeeltechnieken\, het gebruik van verschillende kloppers en soorten klankschalen\, en het effect van aanslaan versus laten zingen. De focus ligt op de praktische toepassing van de klankschaal en de toegevoegde waarde voor jezelf op het gebied van energetisch welzijn\, bewustwording en persoonlijke groei. \nBij Sound & Silence kan je terecht voor de aankopen van klankschalen alsook voor workshop voor het gebruik van klankschalen\nVerdiep je verder \nWil je de werking van klankschalen verder onderzoeken\, bijvoorbeeld voor therapeutische doeleinden? Overweeg dan de 2-daagse klankschalenopleiding voor een verdiepte ervaring. \nWe kijken ernaar uit je te verwelkomen! \n  \nPraktische Info – Klankschalen Workshop \nInschrijving: \n\nDeelname is bevestigd na inschrijving via e-mail naar geert@soundandsilence.be. Vermeld hierbij de naam en datum van de workshop\nHet vindt plaats in Geetbets\, Hulsbeekstraat 120.\nWe werken bewust met kleine groepen\, dus wees er snel bij!\n\nWat mee te nemen: \n\nWe voorzien water\, thee\, kleine versnaperingen\, klankschalen\nHeb je zelf klankschalen\, neem deze gerust mee.\n\nBijdrage: \n\nGlijdende prijs: €55 – €77. We willen deze workshop voor iedereen toegankelijk maken\, dus draag bij wat het voor jou waard is of wat op dit moment haalbaar is. De betaling van het gekozen bedrag kan op IBAN: BE68 3770 2497 7234 of ter plaatse op de dag van de activiteit.\n\nKlankschalen: \n\nJe kan tijdens de workshop gebruik maken van een groot assortiment klankschalen.\nKlankschalen zijn ook te koop in Geetbets.\n\nJe kunt ze aanschaffen op de dag van de workshop of op 1-op-1 basis via een persoonlijke afspraak.\nDe winkel is geopend op dinsdag\, donderdag en om de week op zondag. (enkel op afspraak)\n\n\n\nBij Sound & Silence kan je terecht voor de aankopen van klankschalen alsook voor workshop voor het gebruik van klankschalen
URL:https://www.soundandsilence.be/en/event/klankschalen-workshop-2/
LOCATION:Sound & Silence Geetbets\, Hulsbeekstraat 120\, Geetbets\, Vlaams brabant\, 3450\, Belgium
CATEGORIES:Sound Healing
ATTACH;FMTTYPE=image/jpeg:https://www.soundandsilence.be/wp-content/uploads/2022/11/klankschalen-2-2.jpg
ORGANIZER;CN="Geert Kumpen":MAILTO:geert@soundandsilence.be
END:VEVENT
BEGIN:VEVENT
DTSTART;TZID=Europe/Amsterdam:20251004T193000
DTEND;TZID=Europe/Amsterdam:20251004T220000
DTSTAMP:20260420T021408
CREATED:20231118T090129Z
LAST-MODIFIED:20250725T111459Z
UID:7798-1759606200-1759615200@www.soundandsilence.be
SUMMARY:Soundhealing
DESCRIPTION:Tijdens deze beleving brengen pure klanken je in de wereld van het voelen. Een innerlijke reis die nog lang nazindert.\n\n\nSoundhealing\nEen soundhealing is een reis door de magische wereld van pure klank en vibratie. Niet alleen maken we een auditieve harmoniserende reis\, maar het zijn tegelijk ook voelbare klanken die impact hebben op het lichaam. Oerklanken die je naar jouw innerlijke wereld brengen en een oude verbinding wakker maken. De herinnering en activatie van een harmonische energie binnenin onszelf.\n\n  \n\n\nhttps://www.soundandsilence.be/wp-content/uploads/2024/10/handpan-duitsland.mp4\nDeze soundhealing reizen zijn uniek in verschillende opzichten:\n\n– Je duikt in een 2uur durende klankreis.\n– Er worden zeer diverse instrumenten gebruikt van over de hele wereld.\n– Muzikale expertise en soundhealing worden geweven tot kloppend verhaal.\n– Door de kleine groep en persoonlijke benadering komen de klanken tot bij jou.\n– Een comfortabel matje en deken zijn voorzien voor jou.\n– Je bent vrij om te liggen of zitten.\n– Er is voldoende nazorg om gegrond naar huis te keren.\n  \nLivingroom concept.\nDe soundhealing gaat door in de intieme ruimte van Sound & Silence. Deze beleving gaat door met een beperkt aantal personen in een huiselijke sfeer met kaarslicht\, een kachel en het bijzijn van een prachtige buffet piano. \nPraktische informatie\nWat dien je te voorzien? \nWij voorzien voor jou een comfortabel matje en een dekentje\, een meditatie kussen\, water\, thee en een kleine versnapering na de sessie.\nJe kan zelf nog een kussen meenemen om onder je hoofd te leggen. \nTijd: We starten tegen 19u30\, aankomen kan vanaf 19u15. \nLocatie: Sound & Silence\, Hulsbeekstraat 120\, 3450 Geetbets \nBijdrage: 35-55 euro. Hoe werkt een glijdende prijs? We maken dit event graag voor iedereen mogelijk. Je kan dus bijdragen wat het voor jou waard is of wat er op dit moment mogelijk is. De betaling van het gekozen bedrag kan op IBAN: BE68 3770 2497 7234 of ter plaatse\, aan het begin van de workshop. \nInschrijven: via mail naar geert@soundandsilence.be \nPlaatsen zijn beperkt. Let op\, bij inschrijving via mail rekenen we op jouw aanwezigheid\, respecteer deze plaats en laat 24u op voorhand weten moest er een probleem zijn. \nBenieuwd naar ons SOUNDHEALING aanbod?\nVia deze link krijg je een overzicht
URL:https://www.soundandsilence.be/en/event/soundhealing-1/
LOCATION:Sound & Silence Geetbets\, Hulsbeekstraat 120\, Geetbets\, Vlaams brabant\, 3450\, Belgium
ATTACH;FMTTYPE=image/jpeg:https://www.soundandsilence.be/wp-content/uploads/2024/10/VideoCapture_20240923-212955-2.jpg
ORGANIZER;CN="Geert Kumpen":MAILTO:geert@soundandsilence.be
END:VEVENT
BEGIN:VEVENT
DTSTART;TZID=Europe/Amsterdam:20251015T130000
DTEND;TZID=Europe/Amsterdam:20251015T160000
DTSTAMP:20260420T021408
CREATED:20250725T095824Z
LAST-MODIFIED:20251008T071006Z
UID:8722-1760533200-1760544000@www.soundandsilence.be
SUMMARY:Handpan workshop
DESCRIPTION:Handpan\nIntuïtief spelen met de handpan\, leert je echt genieten van een instrument\n  \nHet spelen van muziek kan een waar genot zijn\, maar vaak zitten we zo in ons hoofd dat we vergeten te genieten. De handpan is een relatief eenvoudig instrument waar je heel vrij op kan spelen. Het neemt je mee in het plezier van muziek maken. \n  \nDe handpan lijkt een heel eenvoudig instrument te zijn maar toch vraagt het enige behendigheid en knowhow. In een gratis introductie\, privéles of handpan workshop\, leer je basis patronen\, aanslag\, en het vinden van je eigen grove. Als je éénmaal weet welke basisregels je rekening mee moet houden\, kan je op ontdekking gaan.\nJe persoonlijke relatie met het instrument brengt je naar jouw eigen unieke manier van spelen.\n  \n\nhttps://www.soundandsilence.be/wp-content/uploads/2022/11/intuitief-musiceren-16_9-web.mp4\n  \n\nEen handpan neemt je dus heel snel mee in een persoonlijk verhaal. Het nodigt uit om ‘aanwezig’ te zijn. Het is dus niet alleen een instrument leren spelen\, maar ook jezelf leren kennen.  Op die manier kan de handpan een vriend worden\, die je doet thuiskomen. Enkele minuten op de handpan na een werkdag en je zit er helemaal anders bij.\n\n  \nZit je vast in dezelfde ritmes of patronen en wil je verder groeien\, dan kan je altijd een privéles boeken. Hier ontdekken we op een afgestemde manier\, nieuwe mogelijkheden. Neem hiervoor contact met me op.\n  \nFilmpje van een handpan nummer Journey of the heart vind je hier:\nhttps://youtu.be/kA6yINTqH8s?feature=shared\nDien je een handpan te hebben voor deze workshop? \n Er zijn handpannen beschikbaar tijdens de workshop. Er zijn ook verschillende stemmingen aanwezig waardoor je kan uitproberen wat jou het meeste ligt.\n  \nHet is ook mogelijk om je eigen instrument mee te nemen als je dit hebt.\n\n\n  \nKan ik een handpan kopen?\n\nEen handpan kopen kan een hele zoektocht zijn.\nEr zijn grote verschillen in kwaliteit en duurzaamheid. \nBij Sound & Silence kan je terecht voor kwalitatieve handpannen. \n\nJe krijgt professionele begeleiding in het kiezen en bespelen van jouw handpan.\nJe kan verschillende stemmingen uitproberen.\nWil je toch nog iets anders? Een handpan volgens jouw gewenste stemming laten maken is ook mogelijk.\nOpvolging of herstel van je handpan kan\, door de goede samenwerking met een ervaren Belgische instrument bouwer.\nBij aankoop van een handpan krijgt u 1u gratis instructies.\nHandpan spelen verder ontwikkelen kan ook tijdens een privéles of in een groepsworkshop.\n\nOnze winkel werkt enkel op afspraak om de nodige persoonlijke begeleiding te kunnen garanderen.Neem hiervoor contact op via mail of whatsapp. \n\n  \nPraktisch\n\nvan 13u00 tot 16u00.\nBeschik je zelf over een D kurd handpan (of vergelijkbaar) laat het mij dan zeker weten.\n\nDeelname is bevestigd na inschrijving via onderstaand formulier of mail (geert@soundandsilence.be) met vermelding van de workshop\, je naam en gsm nummer of email.\nHet gaat door in Geetbets\, Hulsbeekstraat 120.\nWe houden de groep bewust klein voor voldoende kwaliteit te kunnen aanbieden.\n\nParticulier prijs 99 euro\, per overschrijving of contant ter plaatse.\n\n\nDeze workshop wordt aangeboden door Geert Kumpen\,\n  \nEnkele geluidsvoorbeelden van zijn handpan spel kan je hieronder vinden:\nJourney of the heart single\n\nDharä album Eniyua\n\nMihira album Eniyua\n\n  \n\n\n\n\nInschrijven kan via dit formulier: \n\n\n  \n\n\n\n Voornaam (*verplicht)\n \n \n Achternaam*\n \n \n E-mailadres*\n \n \n Gsm-nummer*\n \n \n Onderwerp*\n \n \n Bericht\n \n \nSchrijf me in voor de nieuwsbrief. LET OP enkel geregistreerd na bevestigingsmail (check SPAM)\n \n\n \n			Your browser does not support JavaScript!. Please enable javascript in your browser in order to get form work properly.
URL:https://www.soundandsilence.be/en/event/handpan-workshop-3/
LOCATION:Sound & Silence Geetbets\, Hulsbeekstraat 120\, Geetbets\, Vlaams brabant\, 3450\, Belgium
CATEGORIES:handpan
ATTACH;FMTTYPE=image/jpeg:https://www.soundandsilence.be/wp-content/uploads/2024/10/handpan-.jpg
ORGANIZER;CN="Geert Kumpen":MAILTO:geert@soundandsilence.be
END:VEVENT
END:VCALENDAR